BEGIN:VCALENDAR
VERSION:2.0
PRODID:-//ChamberMaster//Event Calendar 2.0//EN
METHOD:PUBLISH
X-PUBLISHED-TTL:P3D
REFRESH-INTERVAL:P3D
CALSCALE:GREGORIAN
BEGIN:VEVENT
DTSTART:20090512T122500Z
DTEND:20090512T124500Z
X-MICROSOFT-CDO-ALLDAYEVENT:FALSE
SUMMARY:BCC: HOME OFFICE LINK-MAY
DESCRIPTION:The Home Office Link (HOL)\, for home-based and one-person businesses\, will hold its next program on.... Tuesday\, May 12th8:30 - 9:45 AMat the Chamber office This month's special topic will be... The New "Social Media" -- Making the Web Work for You! Brad Kleinman of WorkSmart eMarketing will present a program encompassing a variety of electronic marketing and communications topics. The session will look at how the web has changed and how you can make it work for you. It's not about your website ... It's about your web strategy! Mr. Kleinman will focus on "cost effectiveness\, time effectiveness\, and high "ROI" that can be experienced from implementing eMarketing techniques at your business. He will also discuss the benefits for small business owners and entrepreneurs and address topics such as the transition from Web 1.0 to 2.0\, improving website conversation\, emial marketing\, search engine marketing\, an social media optimization. Kleinman is a Cleveland native and has a bachelor's degree in engineering from the University of Cincinnati and a master's in engineering and management from Case Western Reserve University. Cost is $5 per person (members and nonmembers welcome) payable at the door in cash or small bills.  Coffee and tea are included. RSVPs to goddessws@aol.com are appreciated but not requires.
X-ALT-DESC;FMTTYPE=text/html:<div align="left">The Home Office Link (HOL)\, for home-based and one-person businesses\, will hold its next program on....&nbsp\;</div><div align="center">Tuesday\, May 12th</div><div align="center">8:30 - 9:45 AM</div><div align="center">at the Chamber office</div><div>&nbsp\;</div><div>This month's special topic will be...</div><div>&nbsp\;</div><div align="center"><strong>The New &quot\;Social Media&quot\; -- Making the Web Work for You!</strong></div><div>&nbsp\;</div><div>Brad Kleinman of WorkSmart eMarketing will present a program encompassing a variety of electronic marketing and communications topics.&nbsp\;The session will look at how the web has changed and how you can make it work for you.</div><div>&nbsp\;</div><div><em>It's not about your website ... It's about your web strategy</em>! Mr. Kleinman will focus on &quot\;cost effectiveness\, time effectiveness\, and high &quot\;ROI&quot\; that can be experienced from implementing eMarketing techniques at your business. He will also discuss the benefits for small business owners and entrepreneurs and address topics such as the transition from Web 1.0 to 2.0\, improving website conversation\, emial marketing\, search engine marketing\, an social media optimization.</div><div>&nbsp\;</div><div>Kleinman is a Cleveland native and has a bachelor's degree in engineering from the University of Cincinnati and a master's in engineering and management from Case Western Reserve University.</div><div>&nbsp\;</div><div>Cost is $5 per person (members and nonmembers welcome) payable at the door in cash or small bills.&nbsp\; Coffee and tea are included.</div><div>&nbsp\;</div><div>RSVPs to <a href="mailto:goddessws@aol.com">goddessws@aol.com</a>&nbsp\;are appreciated but not requires.</div><div>&nbsp\;</div><div>&nbsp\;</div><div>&nbsp\;</div><div>&nbsp\;</div>
LOCATION:Beachwood Chamber of CommerceThree Commerce Park Square23230 Chagrin Blvd\, #900(216) 831-0003
UID:e.368.200
SEQUENCE:3
DTSTAMP:20260423T181837Z
URL:https://public.beachwood.org/events/details/bcc-home-office-link-may-05-12-2009-200
END:VEVENT

END:VCALENDAR
