BEGIN:VCALENDAR
VERSION:2.0
PRODID:-//ChamberMaster//Event Calendar 2.0//EN
METHOD:PUBLISH
X-PUBLISHED-TTL:P3D
REFRESH-INTERVAL:P3D
CALSCALE:GREGORIAN
BEGIN:VEVENT
DTSTART:20090609T123000Z
DTEND:20090609T134500Z
X-MICROSOFT-CDO-ALLDAYEVENT:FALSE
SUMMARY:BCC: HOME OFFICE LINK - JUNE
DESCRIPTION:Home Office Link Linkedin\, Facebook and Google Tools with\nBrad Kleinman of Work Smart e-MarketingTuesday\, June 9\, 8:30-9:45 AM\nat the Beachwood Chamber offices\n Three Commerce Park Square\n23230 Chagrin Blvd\, Suite 900Cost is $5\, payable at the door in small bills or checks. \nCoffee and tea are included. RSVP's to Wendy Schwarz at goddessws@aol.com  are appreciated\,  but not required With the wonderful response to Brad's May presentation\, he has graciously offered to return for Part 2! We will concentrate specifically on using Linkedin\, Facebook\, and Google Tools. If you are just getting started\, or already using any of these tools\, we will cover the basics as well as some more advanced information.
X-ALT-DESC;FMTTYPE=text/html:<h3 align="center"><font color="#000080">Home Office Link</font></h3><h4 align="center"><font color="#800000">&nbsp\;Linkedin\, Facebook and Google Tools with<br />Brad Kleinman of Work Smart e-Marketing</font></h4><div align="center"><font size="2"><strong><font color="#800000">Tuesday\, June 9\, 8:30-9:45 AM<br /></font></strong><font color="#000080">at the Beachwood Chamber offices<br />&nbsp\;Three Commerce Park Square<br />23230 Chagrin Blvd\, Suite 900</font></font></div><div><span style="font-weight: bold\; font-size: 14pt\; color: navy"><p align="left"><font color="#000080" size="3"><font size="2">Cost is $5\, payable at the door in small bills or checks.</font>&nbsp\;<br /></font><font color="#000080" size="2">Coffee and tea are included. </font></p><font size="4"><p align="center"><font color="#400080" size="3">RSVP's to Wendy Schwarz at </font><a title="mailto:goddessws@aol.com are" href="mailto:goddessws@aol.com%20are"><font title="mailto:goddessws@aol.com are" color="#400080" size="3">goddessws@aol.com&nbsp\;</font></a><font size="3">&nbsp\;<font color="#400080">are appreciated\, &nbsp\;but not required</font></font></p></font></span></div><p><font color="#000080" size="2">&nbsp\;With the wonderful response to Brad's May presentation\, he has graciously offered to return for Part 2! We will concentrate specifically&nbsp\;on using <u>Linkedin\, Facebook\, and Google Tools</u>. If you are just getting started\, or already using any of these tools\, we will cover the basics as well as some more advanced information.</font></p>
LOCATION:Beachwood Chamber of Commerce23230 Chagrin Blvd.Bldg 3\, Suite 900(216) 831-0003
UID:e.368.215
SEQUENCE:3
DTSTAMP:20260423T171321Z
URL:https://public.beachwood.org/events/details/bcc-home-office-link-june-06-09-2009-215
END:VEVENT

END:VCALENDAR
