BEGIN:VCALENDAR
VERSION:2.0
PRODID:-//ChamberMaster//Event Calendar 2.0//EN
METHOD:PUBLISH
X-PUBLISHED-TTL:P3D
REFRESH-INTERVAL:P3D
CALSCALE:GREGORIAN
BEGIN:VEVENT
DTSTART;VALUE=DATE:20090714
DTEND;VALUE=DATE:20090715
TRANSP:TRANSPARENT
X-MICROSOFT-CDO-ALLDAYEVENT:TRUE
SUMMARY:BCC: HOME OFFICE LINK - JULY
DESCRIPTION:Home Office Link on Tuesday\, July 14th\, 8:3-9:45 AM\, at the Chamber office\, will be a roundtable discussion on ... Managing Your Stress: What You can Control and What You Can't Think about what causes you the most stress and learn how to prioritize your stressors! Cost: $5\, payable by check or small bills.Coffee and tea provided. RSVPs appreciated to goddessws@aol.com but not required. See you on the 14th!
X-ALT-DESC;FMTTYPE=text/html:<div>Home Office Link on Tuesday\, July 14th\, 8:3-9:45 AM\, at the Chamber office\, will be a roundtable discussion on ...</div><div>&nbsp\;</div><div><strong><span style="font-size: small">Managing Your Stress: What You can Control and What You Can&rsquo\;t</span></strong></div><div>&nbsp\;</div><div>Think about what causes you the most stress and learn how to prioritize your stressors!</div><div>&nbsp\;</div><div>Cost: $5\, payable by check or small bills.</div><div>Coffee and tea provided.</div><div>&nbsp\;</div><div>RSVPs appreciated to <a href="mailto:goddessws@aol.com">goddessws@aol.com</a>&nbsp\;but not required.</div><div>&nbsp\;</div><div>See you on the 14th!</div><div>&nbsp\;</div><div>&nbsp\;</div>
LOCATION:Beachwood Chamber of CommerceThree Commerce Park Square23230 Chagrin BlvdSuite 900(216) 831-0003
UID:e.368.224
SEQUENCE:3
DTSTAMP:20260423T171309Z
URL:https://public.beachwood.org/events/details/bcc-home-office-link-july-07-14-2009-224
END:VEVENT

END:VCALENDAR
