BEGIN:VCALENDAR
VERSION:2.0
PRODID:-//ChamberMaster//Event Calendar 2.0//EN
METHOD:PUBLISH
X-PUBLISHED-TTL:P3D
REFRESH-INTERVAL:P3D
CALSCALE:GREGORIAN
BEGIN:VEVENT
DTSTART;VALUE=DATE:20090522
DTEND;VALUE=DATE:20090523
TRANSP:TRANSPARENT
X-MICROSOFT-CDO-ALLDAYEVENT:TRUE
SUMMARY:BCC: GLOBAL GATEWAY - MAY
DESCRIPTION:Savvy Marketing in Difficult TimesPresented by Robert Felber\nPresident\, Felber & Felber MarketingBudgets slashed? Sales down? Material costs rising? And you want to spend dollars where? On marketing?!?This workshop will focus on new and not-so-new methods to stretch your marketing dollars\, engage customers\, drive website traffic\, and keep your brand top-of-mind\; and occasionally still be able to take a client out to lunch.Felber's client experience includes Advanced Drainage Systems\, Crain communications\, Sika Corp. among others. He is currently Vice President-PR for the Ohio Venture Association and serves on the Board of Governors at The Club at Key Center.Cost: $12 (includes lunch and lecture). Pre-registration required.For more information and/or to register\, visit: www.csuohio.edu/business/global/gateway.
X-ALT-DESC;FMTTYPE=text/html:<p><font size="3"><strong>Savvy Marketing in Difficult Times</strong></font></p><p><font size="2">Presented by Robert Felber<br /></font><font size="1">President\, Felber&nbsp\;&amp\; Felber Marketing</font></p><p>Budgets slashed? Sales down? Material costs rising? And you want to spend dollars where? On marketing?!?</p><p>This workshop will focus on new and not-so-new methods to stretch your marketing dollars\, engage customers\, drive website traffic\, and keep your brand top-of-mind\; and occasionally still be able to take a client out to lunch.</p><p>Felber&rsquo\;s client experience includes Advanced Drainage Systems\, Crain communications\, Sika Corp. among others. He is currently Vice President-PR for the Ohio Venture Association and serves on the Board of Governors at The Club at Key Center.</p><p>Cost: $12 (includes lunch and lecture). Pre-registration required.</p><p>For more information and/or to register\, visit: <a href="http://www.csuohio.edu/business/global/gateway">www.csuohio.edu/business/global/gateway</a>.</p><p>&nbsp\;</p>
LOCATION:Beachwood Chamber of CommerceThree Commerce Park Square23230 Chagrin Blvd\, #900(216) 831-0003
UID:e.368.212
SEQUENCE:3
DTSTAMP:20260423T181807Z
URL:https://public.beachwood.org/events/details/bcc-global-gateway-may-05-22-2009-212
END:VEVENT

END:VCALENDAR
