BEGIN:VCALENDAR
VERSION:2.0
PRODID:-//ChamberMaster//Event Calendar 2.0//EN
METHOD:PUBLISH
X-PUBLISHED-TTL:P3D
REFRESH-INTERVAL:P3D
CALSCALE:GREGORIAN
BEGIN:VEVENT
DTSTART:20090626T154500Z
DTEND:20090626T171500Z
X-MICROSOFT-CDO-ALLDAYEVENT:FALSE
SUMMARY:BCC: GLOBAL GATEWAY - JUNE
DESCRIPTION:GLOBAL GATEWAY SERIESSponsored by Cleveland State UniversityCleveland-Marshall College of Law Sustainable Buiness Practices Presented by David E. NashPartner\, McMahon DeGulis LLP In this session\, Nash will make the business case for sustainability.  He will discuss risks and opportunities\, extern and internal drivers\, and sustainable business tools.  Mr. Nash's practice emphasizes traditional areas of environmental legal experience plus corporate sustainability\, climate change\, advanced and renewable energy\, and emerging environmental technologies that are envioronmentally related. He is co-founder of Corporate Sustainability Network (formerly Sustainable Cleveland). Friday\, June 26th11:45 AM - 1:15 PMBeachwood Chamber Offices Register at www.csuohio.edu/business/global/gateway
X-ALT-DESC;FMTTYPE=text/html:<div>GLOBAL GATEWAY SERIES</div><div>Sponsored by Cleveland State University</div><div>Cleveland-Marshall College of Law</div><div>&nbsp\;</div><div><strong><span style="font-size: small">Sustainable Buiness Practices</span></strong></div><div>&nbsp\;</div><div>Presented by David E. Nash</div><div>Partner\, McMahon DeGulis LLP</div><div>&nbsp\;</div><div>In this session\,&nbsp\;Nash will make the business case for sustainability.&nbsp\; He will discuss risks and opportunities\, extern and internal drivers\, and sustainable business tools.&nbsp\;</div><div>&nbsp\;</div><div>Mr. Nash's practice emphasizes traditional areas of environmental legal experience plus corporate sustainability\, climate change\, advanced and renewable energy\, and emerging environmental technologies that are envioronmentally related. He is co-founder of Corporate Sustainability Network (formerly Sustainable Cleveland).</div><div>&nbsp\;</div><div>Friday\, June 26th</div><div>11:45 AM - 1:15 PM</div><div>Beachwood Chamber Offices</div><div>&nbsp\;</div><div>Register at&nbsp\;<a href="http://www.csuohio.edu/business/global/gateway">www.csuohio.edu/business/global/gateway</a></div>
LOCATION:Beachwood Chamber of Commerce23230 Chagrin Blvd\, #900Beachwood\, OH 44122(216) 831-0003
UID:e.368.227
SEQUENCE:3
DTSTAMP:20260423T170137Z
URL:https://public.beachwood.org/events/details/bcc-global-gateway-june-06-26-2009-227
END:VEVENT

END:VCALENDAR
