BEGIN:VCALENDAR
VERSION:2.0
PRODID:-//ChamberMaster//Event Calendar 2.0//EN
METHOD:PUBLISH
X-PUBLISHED-TTL:P3D
REFRESH-INTERVAL:P3D
CALSCALE:GREGORIAN
BEGIN:VEVENT
DTSTART;VALUE=DATE:20090609
DTEND;VALUE=DATE:20090610
TRANSP:TRANSPARENT
X-MICROSOFT-CDO-ALLDAYEVENT:TRUE
SUMMARY:BCC: EXPLORING SOCIAL MEDIA - A 3-PART WEBINAR
DESCRIPTION:In response to our very successful education seminars on social media\, the Chamber and WorkSmart eMarketing are co-producing a 3-part webinar series on exploring social media.Tuesday\, June 9th: 2-3 PM\nTuesday\, June 16th: 2-3 PM\nTuesday\, June 23rd: 2-3 PMEach session will be following by a Q&A session.This 3-part webinar series is designed for businesses that want to use social media to market themselves online.  These webinars will help participants kick their eMarketing stragegy into high gear and ensure that they are getting the maximum benefit out of their eMarketing budget.Each session will provide participants with valuable new ideas and free resources!Cost: $155 -- BCC Members\; $175 -- nonmembersRegistration: You may register online.  Your acknowledgment is also your credit card receipt. Or you may call the Chamber at 216-831-0003 and ask for Becky or Devorah.  Thank you.
X-ALT-DESC;FMTTYPE=text/html:<p>In response to our very successful education seminars on social media\, the Chamber and WorkSmart eMarketing are co-producing a 3-part webinar series on exploring social media.</p><p align="center">Tuesday\, June 9th: 2-3 PM<br />Tuesday\, June 16th: 2-3 PM<br />Tuesday\, June 23rd: 2-3 PM</p><p align="center">Each session will be following by a Q&amp\;A session.</p><p>This 3-part webinar series is designed for businesses that want to use social media to market themselves online.&nbsp\; These webinars will help participants kick their eMarketing stragegy into high gear and ensure that they are getting the maximum benefit out of their eMarketing budget.</p><p>Each session will provide participants with valuable new ideas and free resources!</p><p>Cost: $155 -- BCC Members\; $175 -- nonmembers</p><p>Registration: You may register online.&nbsp\; Your acknowledgment is also your credit card receipt. Or you may call the&nbsp\;Chamber at 216-831-0003 and ask for Becky or Devorah.&nbsp\; Thank you.</p>
LOCATION:Online at your computer.
UID:e.368.206
SEQUENCE:3
DTSTAMP:20260423T170600Z
URL:https://public.beachwood.org/events/details/bcc-exploring-social-media-a-3-part-webinar-06-09-2009-206
END:VEVENT

END:VCALENDAR
