BEGIN:VCALENDAR
VERSION:2.0
PRODID:-//ChamberMaster//Event Calendar 2.0//EN
METHOD:PUBLISH
X-PUBLISHED-TTL:P3D
REFRESH-INTERVAL:P3D
CALSCALE:GREGORIAN
BEGIN:VEVENT
DTSTART:20090721T203000Z
DTEND:20090721T230000Z
X-MICROSOFT-CDO-ALLDAYEVENT:FALSE
SUMMARY:BCC: EVENING WITH DR. MICHAEL ROIZEN
DESCRIPTION:The Cleveland ClinicBeachwood Chamber of Commerceand United Cerebral Palsy of Greater Cleveland (registration closed -- please call Chamber 216-831-0003 re attending)  Invite you to a unique special event with the Cleveland Clinic's Chief Wellness OfficerMichael Roizen\, M.D. The event begins at 4:30 PM with hors d'oeuvres and beverages at the Clinic's Lyndhurst location: the TRW Building\, 1950 Richmond Road.  Dr. Roizen has appeared on the Oprah Winfrey Show\, Today\, 20/20\, CNN\, CBS\, and Good Morning America.  His book YOU: The Owner's Manual\, co-written with with Dr. Mehmet Oz\, debuted in May 2005 and became a #1 New York Times bestseller. Cost: No charge RSVPs: Required by July 14th.  Please click REGISTER ONLINE above.  Any questions\, please contact the Chamber at 216-831-0003.
X-ALT-DESC;FMTTYPE=text/html:<div style="text-align: center"><span style="font-size: small"><strong><span style="color: #000080"><span id="1245185777390S" style="display: none">&nbsp\;</span>The Cleveland Clinic</span></strong></span></div><div style="text-align: center"><span style="font-size: small"><strong><span style="color: #000080">Beachwood Chamber of Commerce</span></strong></span></div><div style="text-align: center"><span style="font-size: small"><strong><span style="color: #000080">and </span></strong></span></div><div style="text-align: center"><span style="font-size: small"><strong><span style="color: #000080">United Cerebral Palsy of Greater Cleveland</span></strong></span></div><div style="text-align: center">&nbsp\;</div><div style="text-align: center"><span style="font-size: smaller"><span style="color: #800000"><strong>(registration closed -- please call Chamber 216-831-0003 re attending)</strong></span></span></div><div><span style="font-size: smaller"><span style="color: #800000">&nbsp\;</span></span></div><div>&nbsp\;<span style="font-size: small"><span style="color: #000066">Invite you to a unique special event with the Cleveland Clinic&rsquo\;s Chief Wellness Officer</span></span></div><div style="text-align: center"><span style="font-size: small"><strong><span style="color: #000066">Michael Roizen\, M.D.</span></strong></span></div><div><span style="font-size: small">&nbsp\;</span></div><div><span style="font-size: small"><span style="color: #000066">The event begins at 4:30 PM with hors d&rsquo\;oeuvres and beverages at the Clinic&rsquo\;s Lyndhurst location: the&nbsp\;TRW&nbsp\;Building\, 1950 Richmond Road.&nbsp\;</span></span></div><div><span style="font-size: small">&nbsp\;</span></div><div><span style="font-size: small"><span style="color: #000066">Dr. Roizen has appeared on the Oprah Winfrey Show\, Today\, 20/20\, CNN\, CBS\, and Good Morning America.&nbsp\; His book <em>YOU: The Owner&rsquo\;s Manual</em>\, co-written with with Dr. Mehmet Oz\, debuted in May 2005 and became a #1 New York Times bestseller.</span></span></div><div><span style="font-size: small">&nbsp\;</span></div><div><span style="font-size: small"><strong><span style="color: #000066">Cost:</span></strong><span style="color: #000066"> No charge</span></span></div><div><span style="font-size: small">&nbsp\;</span></div><div><span style="font-size: small"><strong><span style="color: #000066">RSVPs</span></strong><span style="color: #000066">: Required by July 14th.&nbsp\; Please click <strong>REGISTER ONLINE </strong>above.&nbsp\;</span></span></div><div><span style="font-size: small">&nbsp\;</span></div><div><span style="font-size: small"><span style="color: #000066">Any questions\, please contact the Chamber at 216-831-0003.</span></span></div>
LOCATION:Cleveland Clinic'sTRW Building1950 Richmond RoadLyndhurst
UID:e.368.223
SEQUENCE:3
DTSTAMP:20260423T160208Z
URL:https://public.beachwood.org/events/details/bcc-evening-with-dr-michael-roizen-07-21-2009-223
END:VEVENT

END:VCALENDAR
