BEGIN:VCALENDAR
VERSION:2.0
PRODID:-//ChamberMaster//Event Calendar 2.0//EN
METHOD:PUBLISH
X-PUBLISHED-TTL:P3D
REFRESH-INTERVAL:P3D
CALSCALE:GREGORIAN
BEGIN:VEVENT
DTSTART:20090602T180000Z
DTEND:20090602T190000Z
X-MICROSOFT-CDO-ALLDAYEVENT:FALSE
SUMMARY:BCC: eMARKETING TECHNIQUES WEBINAR
DESCRIPTION:Our education seminars on social media generated requests from attendees for more information on its use both personally and for growing their business. \n\nIn response\, the Chamber has teamed up with WorkSmart eMarketing on a series of webinars on social media.  Twitter has grown over 750% in the last year and 30\,000\,000 photos are uploaded to Facebook daily!\n\nThe first will be a webinar on\nExploring Twitter and Facebook\non Tuesday\, June 2nd\, from 2:00-3:00 PM\, followed by Q&A.\n\nCost: $35.00-BCC Members\; $45-Nonmembers\n\nRegistration:  You may register and pay online. Your acknowledgment is also your credit card receipt. You may also call the Chamber at 216-831-0003 and speak with either Devorah or Becky.  Thank you.
X-ALT-DESC;FMTTYPE=text/html:<div>Our education seminars on social media generated requests from attendees for more information on its use both personally and for growing their business.&nbsp\;<br /><br />In response\, the Chamber has teamed up with WorkSmart eMarketing on a series of webinars on social media.&nbsp\; Twitter has grown over 750% in the last year and 30\,000\,000 photos are uploaded to Facebook daily!<br /><br />The first will be a webinar on</div><div><strong><font size="3"><div align="center"><br />Exploring Twitter and Facebook</div></font></strong></div><div><br />on Tuesday\, June 2nd\, from 2:00-3:00 PM\, followed by Q&amp\;A.<br /><br />Cost: $35.00-BCC Members\; $45-Nonmembers<br /><br />Registration:&nbsp\; You may register and pay online. Your acknowledgment is also your credit card receipt. You may also call the Chamber at 216-831-0003 and speak with either Devorah or Becky.&nbsp\; Thank you.</div>
LOCATION:Web-based
UID:e.368.205
SEQUENCE:3
DTSTAMP:20260423T170138Z
URL:https://public.beachwood.org/events/details/bcc-emarketing-techniques-webinar-06-02-2009-205
END:VEVENT

END:VCALENDAR
