BEGIN:VCALENDAR
VERSION:2.0
PRODID:-//ChamberMaster//Event Calendar 2.0//EN
METHOD:PUBLISH
X-PUBLISHED-TTL:P3D
REFRESH-INTERVAL:P3D
CALSCALE:GREGORIAN
BEGIN:VEVENT
DTSTART:20090619T153000Z
DTEND:20090619T173000Z
X-MICROSOFT-CDO-ALLDAYEVENT:FALSE
SUMMARY:BCC: EDUCATION SERIES--CASH FLOW/LIQUIDITY
DESCRIPTION:KeyBank Education SeriesFriday\, June 19th11:30 AM - 1:30 PM  Challenges of Growing Your Business in Today's Economy How does cash flow impact your business? Join us on Friday\, June 19th\, as our panel highlights these areas ...Accounts Receivable ManagementStress ManagementTax IssuesBankingVenture Capital/SBAJoin us at 11:30 PM for lunch provided by our sponsor KeyBank.  Cost: FREE for members\; $15 for nonmembers. Please RSVP online\, email devorah@beachwood.org or call the Chamber at 216-831-0003.
X-ALT-DESC;FMTTYPE=text/html:<div align="center">KeyBank Education Series</div><div align="center">Friday\, June 19th</div><div align="center">11:30 AM - 1:30 PM</div><div align="center">&nbsp\;</div><div align="center"><font color="#333399" size="3"><strong>&nbsp\;Challenges of Growing Your Business in Today's Economy</strong></font></div><div>&nbsp\;</div><div>How does cash flow impact your business? Join us on Friday\, June 19th\, as our panel highlights these areas ...</div><ul><li>Accounts Receivable Management</li><li>Stress Management</li><li>Tax Issues</li><li>Banking</li><li>Venture Capital/SBA</li></ul><div>Join us at 11:30 PM for lunch provided by our sponsor KeyBank.&nbsp\;</div><div>&nbsp\;</div><div>Cost: FREE for members\; $15 for nonmembers.</div><div>&nbsp\;</div><div>Please RSVP online\, email <a href="mailto:devorah@beachwood.org">devorah@beachwood.org</a> or call the Chamber at 216-831-0003.</div>
LOCATION:Beachwood Chamber of Commerce 23230 Chagrin Blvd. Suite 900
UID:e.368.221
SEQUENCE:3
DTSTAMP:20260423T170717Z
URL:https://public.beachwood.org/events/details/bcc-education-series-cash-flow-liquidity-06-19-2009-221
END:VEVENT

END:VCALENDAR
