BEGIN:VCALENDAR
VERSION:2.0
PRODID:-//ChamberMaster//Event Calendar 2.0//EN
METHOD:PUBLISH
X-PUBLISHED-TTL:P3D
REFRESH-INTERVAL:P3D
CALSCALE:GREGORIAN
BEGIN:VEVENT
DTSTART:20090508T114500Z
DTEND:20090508T133000Z
X-MICROSOFT-CDO-ALLDAYEVENT:FALSE
SUMMARY:BCC: Education Seminar -- POSTPONED
DESCRIPTION:SEMINAR POSTPONED!NO SEMINAR FRI\, MAY 8TH Join us for the next in our series of Education Seminars sponsored by KeyBank.  Our Friday\, May 8th topic will be Managing a High Performance Work Force in These Challenging Economic Times There are many issues facing business owners and managers.  Among them ... How to keep high-performing employees engaged\, productive and confidentHow to help your staff deal with stress while keeping them focused on the priorities of your businessImplementing initiatives to manage expenses while still planning for future growth.Leading our discussion are human resource experts fromDevelopers Diversified RealtyCleveland Clinic South Pointe HospitalKeyCorpAdministaffWe look forward to your participation in this informative and interactive event. Cost: Free to members\; $15 for nonmembers. A Continental breakfast will be provided.
X-ALT-DESC;FMTTYPE=text/html:<div align="center"><strong><font color="#800000">SEMINAR POSTPONED!</font></strong></div><div align="center"><strong><font color="#800000">NO SEMINAR FRI\, MAY 8TH</font></strong></div><div>&nbsp\;</div><div>Join us for the next in our series of Education Seminars sponsored by <a href="http://www.key.com">KeyBank</a>.&nbsp\;&nbsp\;Our Friday\, May 8th&nbsp\;topic will be</div><div>&nbsp\;</div><div align="center"><strong>Managing a High Performance Work Force in These Challenging Economic Times</strong></div><div>&nbsp\;</div><div>There are many issues facing business owners and managers.&nbsp\; Among them ...</div><div>&nbsp\;</div><ul><li>How to keep high-performing employees engaged\, productive and confident</li><li>How to help your staff deal with stress while keeping them focused on the priorities of your business</li><li>Implementing initiatives to manage expenses while still planning for future growth.</li></ul><div>Leading our discussion are human resource experts from</div><ul><li>Developers Diversified Realty</li><li>Cleveland Clinic South Pointe Hospital</li><li>KeyCorp</li><li>Administaff</li></ul><div>We look forward to your participation in this informative and interactive event.</div><div>&nbsp\;</div><div>Cost: Free to members\; $15 for nonmembers.</div><div>&nbsp\;</div><div>A Continental breakfast will be provided.</div>
LOCATION:Beachwood Chamber of CommerceThree Commerce Park Square23230 Chagrin BlvdSuite 900
UID:e.368.202
SEQUENCE:3
DTSTAMP:20260423T182558Z
URL:https://public.beachwood.org/events/details/bcc-education-seminar-postponed-05-08-2009-202
END:VEVENT

END:VCALENDAR
