BEGIN:VCALENDAR
VERSION:2.0
PRODID:-//ChamberMaster//Event Calendar 2.0//EN
METHOD:PUBLISH
X-PUBLISHED-TTL:P3D
REFRESH-INTERVAL:P3D
CALSCALE:GREGORIAN
BEGIN:VEVENT
DTSTART:20090424T154500Z
DTEND:20090424T171000Z
X-MICROSOFT-CDO-ALLDAYEVENT:FALSE
SUMMARY:BCC/CSU: GLOBAL GATEWAY-APRIL
DESCRIPTION:This month's 2009 Global Gateway\, a professional development series presented by leading law and business faculty to help companies make informed business decisions and pursue sound strategic growth presents it's latest seminar on Friday\, April 24th\, entitled:Joint Ventures\, Foreign Direct Investment\, and Licensing:  How to Sell Your Widget AbroadThe seminar will be presented by Professor Mark Sundahl of CSU's Cleveland-Marshall College of Law. The presentation explains the different methods that a company can pursue when selling its products abroad and examines the advantages and drawbacks of each approach.Prof. Sundahl works in the areas of international commercial law and commercial space law.He is the co-author of a treatise on secured transactions and has published articles and lectured around the world on international commercial law\, space law\, and legal history.  He received his B.A. from UCLA and his J.D. from the University of California\, Hasgings College of Law. He also holds a Ph.D. in Classics from Brown University. Prior to join the faculty at Cleveland-Marshall\, he was an associate in the International Transactions Group at Pillsbury Winthrop Shaw Pittman LLP in San Francisco.Cost is $12 per lecture\, which includes lunch.  Seating is limited.Register online at: www.csuohio.edu/business/global/gateway.
X-ALT-DESC;FMTTYPE=text/html:<p>This month's 2009 Global Gateway\, a professional development series presented by leading law and business faculty to help companies make informed business decisions and pursue sound strategic growth presents it's latest seminar on Friday\, April 24th\,&nbsp\;entitled:</p><p align="center"><font size="3"><strong>Joint Ventures\, Foreign Direct Investment\, and Licensing:&nbsp\; How to Sell Your Widget Abroad</strong></font></p><p><font size="2">The seminar will be presented by <strong>Professor Mark Sundahl</strong> of CSU's Cleveland-Marshall College of Law. The presentation explains the different methods that a company can pursue when selling its products abroad and examines the advantages and drawbacks of each approach.</font></p><p><font size="2">Prof. Sundahl works in the areas of international commercial law and commercial space law.He is the co-author of a treatise on secured transactions and has published articles and lectured around the world on international commercial law\, space law\, and legal history.&nbsp\; He received his B.A. from UCLA and his J.D. from the University of California\, Hasgings College of Law. He also holds a Ph.D. in Classics from Brown University. Prior to join the faculty at Cleveland-Marshall\, he was an associate in the International Transactions Group at Pillsbury Winthrop Shaw Pittman LLP in San Francisco.</font></p><p><font size="2">Cost is $12 per lecture\, which includes lunch.&nbsp\; Seating is limited.</font></p><p><font size="2">Register online at: www.csuohio.edu/business/global/gateway.</font></p>
LOCATION:Beachwood Chamber of CommerceThree Commerce Park Square23230 Chagrin Blvd.(216) 831-0003
UID:e.368.185
SEQUENCE:3
DTSTAMP:20260423T192026Z
URL:https://public.beachwood.org/events/details/bcc-csu-global-gateway-april-04-24-2009-185
END:VEVENT

END:VCALENDAR
