BEGIN:VCALENDAR
VERSION:2.0
PRODID:-//ChamberMaster//Event Calendar 2.0//EN
METHOD:PUBLISH
X-PUBLISHED-TTL:P3D
REFRESH-INTERVAL:P3D
CALSCALE:GREGORIAN
BEGIN:VEVENT
DTSTART;VALUE=DATE:20090601
DTEND;VALUE=DATE:20090602
TRANSP:TRANSPARENT
X-MICROSOFT-CDO-ALLDAYEVENT:TRUE
SUMMARY:BCC: ANNUAL GOLF OUTING
DESCRIPTION:It's time to enjoy the warm weather.  Join us for the Toshiba Business SolutionsBeachwood Chamber2009 Golf Outing On Monday\, June 1st\, the event will be held at Hawthorne Valley Country Club\, 27840 Aurora Road\, in Solon (remember to look for the 2 flashing yellow lights by the entrance!). Click here to learn more about the renowned course at Hawthorne Valley. We have our own "stimulus" package for this year's golfers ... $150 per golfer! We also have sponsorships available for the event.  Click here for our Registration Form and flier describing the various benefits for this year's sponsors.  Any questions\, Chamber staff is ready to answer them.  Give us a call at 216-831-0003 or email us at mail@beachwood.org. Individual golfers may register online. If you will be part of a foursome\, please note whose foursome under comments. If you would like to participate in our banner project for $25\, you may do so by calling the Chamber at 216-831-0003 and asking for Becky or Devorah.  Thank you.  We look forward to your company joining our current Golf Outing sponsors ... GoldDevelopers Diversified Realty Corp.Goldberg CompaniesJoseph\, Mann & CreedMeyers\, Roman\, Friedberg & LewisNational CityOhio.netHole-in-OneCrestmont CadillacComfort MD SilverCitizens BankCostco WholesaleF. A. Makoski ConstructionSavNetTodd Associates
X-ALT-DESC;FMTTYPE=text/html:<div><font color="#000080">It&rsquo\;s time to enjoy the warm weather.&nbsp\; Join us for the</font></div><div>&nbsp\;</div><div align="center"><font color="#000080" size="3"><strong><a href="http://www.northcoastbusiness.com">Toshiba Business Solutions</a></strong></font></div><div align="center"><font color="#000080" size="3"><strong>Beachwood Chamber</strong></font></div><div align="center"><font color="#000080" size="3"><strong>2009 Golf Outing</strong></font></div><div>&nbsp\;</div><div><font color="#000080">On Monday\, June 1st\, the event will be held at Hawthorne Valley Country Club\, 27840 Aurora Road\, in Solon (remember to look for the 2 flashing yellow lights by the entrance!). <a href="http://www.hawthornevalleycc.com"><strong>Click here</strong></a> to learn more about the renowned course at Hawthorne Valley.</font></div><div>&nbsp\;</div><div><font color="#000080">We have our own &quot\;stimulus&quot\; package for this year&rsquo\;s golfers ...<strong><em> $150 per golfer!</em></strong></font></div><div>&nbsp\;</div><div><font color="#000080">We also have sponsorships available for the event.&nbsp\; <a href="https://secure.chambermaster.com/FCKeditor/UserFiles/chambers/368/File/Golf%20Registration-draft2.pdf"><strong>Click here</strong></a> for our Registration Form and flier describing the various benefits for this year&rsquo\;s sponsors.&nbsp\; Any questions\, Chamber staff is ready to answer them.&nbsp\; Give us a call at 216-831-0003 or email us at <a href="mailto:mail@beachwood.org">mail@beachwood.org</a>.</font></div><div>&nbsp\;</div><div><font color="#000080"><strong>Individual golfers may register online. If you will be part of a foursome\, please note whose foursome under comments.</strong></font></div><div>&nbsp\;</div><div><font color="#000080"><strong>If you would like to participate in our banner project for $25\,&nbsp\;you may do so by calling the Chamber at 216-831-0003 and asking for Becky or Devorah.&nbsp\; Thank you.</strong></font>&nbsp\;</div><div>&nbsp\;</div><div><font color="#000080">We look forward to your company joining our current Golf Outing sponsors ...</font></div><div>&nbsp\;</div><div><font color="#000080"><strong><u>Gold</u></strong></font></div><ul><li><a href="http://www.ddrc.com"><font color="#000080">Developers Diversified Realty Corp.</font></a></li><li><font color="#000080"><a href="http://www.goldbergcompanies.com/commercial.cfm">Goldberg Companies</a></font></li><li><a href="http://www.jmcbiz.com"><font color="#000080">Joseph\, Mann &amp\; Creed</font></a></li><li><a href="http://www.meyersroman.com">Meyers\, Roman\, Friedberg &amp\; Lewis</a></li><li><a href="http://www.nationalcity.com"><font color="#000080">National City</font></a></li><li><font color="#000080"><a href="http://www.ohio.net">Ohio.net</a></font></li></ul><div><font color="#000080"><strong>Hole-in-One</strong></font></div><ul><li><font color="#000080"><a href="http://www.crestmontcadillac.com">Crestmont Cadillac</a></font></li><li><font color="#000080">Comfort MD</font></li></ul><div>&nbsp\;</div><div><font color="#000080"><strong>Silver</strong></font></div><ul><li><font color="#000080"><a href="http://www.citizensbanking.com">Citizens Bank</a></font></li><li><font color="#000080"><a href="http://www.costco.com">Costco Wholesale</a></font></li><li><font color="#000080"><a href="http://www.makoski.com">F. A. Makoski Construction</a></font></li><li><font color="#000080">SavNet</font></li><li><font color="#000080"><a href="http://www.toddassociates.com">Todd Associates</a></font></li></ul>
LOCATION:Hawthorne Valley Country Club 27840 Aurora Road Solon
UID:e.368.180
SEQUENCE:3
DTSTAMP:20260423T171242Z
URL:https://public.beachwood.org/events/details/bcc-annual-golf-outing-06-01-2009-180
END:VEVENT

END:VCALENDAR
