BEGIN:VCALENDAR
VERSION:2.0
PRODID:-//ChamberMaster//Event Calendar 2.0//EN
METHOD:PUBLISH
X-PUBLISHED-TTL:P3D
REFRESH-INTERVAL:P3D
CALSCALE:GREGORIAN
BEGIN:VEVENT
DTSTART:20090511T220000Z
DTEND:20090512T000000Z
X-MICROSOFT-CDO-ALLDAYEVENT:FALSE
SUMMARY:BCC: ANNUAL DINNER
DESCRIPTION:This year we will be "Singing in the Rain!" Join us for an upbeat evening for the Chamber's 19th Annual Dinner sponsored by ORG Real Property. It's spring ... no more snow ... yes\, it rains ... so let's "sing" in the rain ...  let's have fun ... meet and greet old and new friends ... have a good time ... forget our cares and woes for an evening ... get away without "going away." We look forward to having you join us on Monday\, May 11th\, at the Marriott Cleveland East\, for lighthearted fun\, a bit of serious business\, and if you're willing ... ending the evening dancing to the music of The Flashback Rock 'n' Soul Band. As our Guest Speaker\, look forward to hearing how Gary Waters\, Head Coach of CSU's Vikings\, had a vision for the team and Cleveland and how it was achieved. Instead of listing the benefits of sponsorship and to register as a sponsor\, click here . To register for individual reservations\, either use the form or register online.  If you have any questions\, please contact the Chamber at 216-831-0003 or email mail@beachwood.org. Have your name added to these 2009 Annual Dinner sponsors ... SignatureORG Real PropertyPlatinium Joseph\, Mann & Creed GoldAllied Door SystemsAnthemDevelopers Diversified RealtyNational CityOhio.netOhio Commerce BankToshiba Business SolutionsSilverAT&TBaldwin-Wallace CollegeBogart\, Cunix & AssociatesCitizens BankDiscovery PhotoHerschman Architects\, Inc.KeyBankLawrence P. Weissman\, CPASatellite Data Payroll
X-ALT-DESC;FMTTYPE=text/html:<div><font color="#660066">This year we will be &quot\;Singing in the Rain!&quot\; Join us for an upbeat evening for the Chamber&rsquo\;s 19th Annual Dinner sponsored by </font><a href="http://www.orgrealproperty.com"><font color="#660066">ORG Real Property</font></a><font color="#660066">.</font></div><div><font color="#660066">&nbsp\;</font></div><div><font color="#660066">It&rsquo\;s spring ... no more snow ... yes\, it rains ... so let&rsquo\;s &quot\;sing&quot\; in the rain ...&nbsp\; let&rsquo\;s have fun ... meet and greet old and new friends ... have a good time ... forget&nbsp\;our cares and woes for an evening ... get away without &quot\;going away.&quot\;</font></div><div><font color="#660066">&nbsp\;</font></div><div><font color="#660066">We look forward to having you join us on Monday\, May 11th\, at the Marriott Cleveland East\, for lighthearted fun\, a bit of serious business\, and if you&rsquo\;re willing ... ending the evening dancing to the music of</font> <strong><font color="#003366">The Flashback Rock &rsquo\;n&rsquo\; Soul Band.</font></strong></div><div>&nbsp\;</div><div><font color="#660066">As our Guest Speaker\, look forward to hearing how <strong>Gary Waters</strong>\, Head Coach of CSU&rsquo\;s Vikings\, had a vision for the team and Cleveland and how&nbsp\;it was achieved.</font></div><div>&nbsp\;</div><div><font color="#800080"><strong>Instead of listing the benefits of sponsorship and to register as a sponsor\, </strong><strong><a href="https://secure.chambermaster.com/FCKeditor/UserFiles/chambers/368/File/AnnDnn2009%20Registration.pdf">click here</a></strong><strong>&nbsp\;.&nbsp\;To register for individual&nbsp\;reservations\, either use the form or register online. &nbsp\;If you have any questions\, please contact the Chamber at 216-831-0003 or email </strong></font><a href="mailto:mail@beachwood.org"><font color="#800080"><strong>mail@beachwood.org</strong></font></a><font color="#800080"><strong>.</strong></font></div><div><font color="#800080">&nbsp\;</font></div><div><font color="#800080">Have your name added to these 2009 Annual Dinner sponsors ...</font></div><div>&nbsp\;</div><div><font color="#999900"><strong>Signature</strong></font></div><ul><li><a href="http://www.orgrealproperty.com">ORG Real Property</a></li></ul><div><font color="#999900"><strong>Platinium</strong></font></div><ul><li><a href="http://www.jmcbiz.com">&nbsp\;Joseph\, Mann &amp\; Creed</a></li></ul><div>&nbsp\;</div><div><font color="#999900"><strong>Gold</strong></font></div><ul><li><a href="http://www.allieddoorsystems.com">Allied Door Systems</a></li><li><a href="http://www.anthem.com">Anthem</a></li><li><a href="http://www.ddr.com">Developers Diversified Realty</a></li><li><a href="http://www.nationalcity.com">National City</a></li><li><a href="http://www.ohio.net">Ohio.net</a></li><li><a href="http://www.ohiocommercebank.com">Ohio Commerce Bank</a></li><li><a href="http://www.northcoastbusiness.com">Toshiba Business Solutions</a></li></ul><div><font color="#999900"><strong>Silver</strong></font></div><ul><li>AT&amp\;T</li><li>Baldwin-Wallace College</li><li>Bogart\, Cunix &amp\; Associates</li><li>Citizens Bank</li><li>Discovery Photo</li><li>Herschman Architects\, Inc.</li><li>KeyBank</li><li>Lawrence P. Weissman\, CPA</li><li>Satellite Data Payroll</li></ul><div>&nbsp\;</div>
LOCATION:Marriott Cleveland EastCorner of Harvard & Richmond Roads
UID:e.368.179
SEQUENCE:3
DTSTAMP:20260423T183524Z
URL:https://public.beachwood.org/events/details/bcc-annual-dinner-05-11-2009-179
END:VEVENT

END:VCALENDAR
