BEGIN:VCALENDAR
VERSION:2.0
PRODID:-//ChamberMaster//Event Calendar 2.0//EN
METHOD:PUBLISH
X-PUBLISHED-TTL:P3D
REFRESH-INTERVAL:P3D
CALSCALE:GREGORIAN
BEGIN:VEVENT
DTSTART:20170521T180000Z
DTEND:20170521T190000Z
X-MICROSOFT-CDO-ALLDAYEVENT:FALSE
SUMMARY:BAC presents Debi Lewin Concert
DESCRIPTION:Join Beachwood Arts Council (BAC) for an after noon of Broadway and popular show tunes sung by vocalist and entertainer Debi Lewin\, who has performed in Las Vegas\, has sung volcals with Eric Carmen\, Michael Stanley and the Beau Coup Band in Cleveland\; and has performed with many other well-iknown singers.
X-ALT-DESC;FMTTYPE=text/html:Join Beachwood Arts Council (BAC) for an after noon of Broadway and popular show tunes sung by vocalist and entertainer Debi Lewin\, who has performed in Las Vegas\, has sung volcals with Eric Carmen\, Michael Stanley and the Beau Coup Band in Cleveland\; and has performed with many other well-iknown singers.
LOCATION:Beachwood Community Center 25225 Fairmount Blvd at Richmond Road Beachwood 44122
UID:e.368.6301
SEQUENCE:3
DTSTAMP:20260421T052824Z
URL:https://public.beachwood.org/events/details/bac-presents-debi-lewin-concert-6301
END:VEVENT

END:VCALENDAR
