BEGIN:VCALENDAR
VERSION:2.0
PRODID:-//ChamberMaster//Event Calendar 2.0//EN
METHOD:PUBLISH
X-PUBLISHED-TTL:P3D
REFRESH-INTERVAL:P3D
CALSCALE:GREGORIAN
BEGIN:VEVENT
DTSTART:20150204T000000Z
DTEND:20150204T013000Z
X-MICROSOFT-CDO-ALLDAYEVENT:FALSE
SUMMARY:Author Stewart O'Nan
DESCRIPTION:Award Winning author Stewart O'Nan joins us to talk about his new book "West of Sunset". F Scott Fitzgerald in the last three years of his life\, which are often obscured by the legend of his earlier Jazz Age glamour\, are the focus of this gracefully written novel. With flashbacks to key moments from Fitzgerald's past\, the story follows him as he arrives on the MGM lot\, falls in love with brassy gossip columnist Sheilah Graham\, begins work on The Last Tycoon\, and tries to maintain a semblance of family life with the absent Zelda and daughter\, Scottie.\n\n\n\nStewart's previous books include Snow Angels\, A Prayer for the Dying\, Last Night at the Lobster\, and Emily\, Alone. Books will available for purchase and signing courtesy of Macs Backs Books on Coventry.
X-ALT-DESC;FMTTYPE=text/html:Award Winning author Stewart O&#39\;Nan joins us to talk about his new book &quot\;West of Sunset&quot\;. F Scott Fitzgerald in the last three years of his life\, which are often obscured by the legend of his earlier Jazz Age glamour\, are the focus of this gracefully written novel. With flashbacks to key moments from Fitzgerald&rsquo\;s past\, the story follows him as he arrives on the MGM lot\, falls in love with brassy gossip columnist Sheilah Graham\, begins work on The Last Tycoon\, and tries to maintain a semblance of family life with the absent Zelda and daughter\, Scottie.<br />\n<br />\nStewart&#39\;s previous books include Snow Angels\, A Prayer for the Dying\, Last Night at the Lobster\, and Emily\, Alone. Books will available for purchase and signing courtesy of Macs Backs Books on Coventry.
LOCATION:Beachwood Branch of Cuyahoga County Public Library 25501 Shaker Blvd Beachwood OH 44122
UID:e.368.1268
SEQUENCE:3
DTSTAMP:20260419T185910Z
URL:https://public.beachwood.org/events/details/author-stewart-o-nan-02-03-2015-1268
END:VEVENT

END:VCALENDAR
