BEGIN:VCALENDAR
VERSION:2.0
PRODID:-//ChamberMaster//Event Calendar 2.0//EN
METHOD:PUBLISH
X-PUBLISHED-TTL:P3D
REFRESH-INTERVAL:P3D
CALSCALE:GREGORIAN
BEGIN:VEVENT
DTSTART:20140610T230000Z
DTEND:20140611T003000Z
X-MICROSOFT-CDO-ALLDAYEVENT:FALSE
SUMMARY:Author Lily King
DESCRIPTION:Meet best selling author Lily King (Father of the Rain) at the local book launch of her latest novel Euphoria. Books will be available for purchase and signing courtesy of Mac's Backs-Books on Coventry
X-ALT-DESC;FMTTYPE=text/html:&nbsp\;Meet best selling author Lily King (Father of the Rain) at the local book launch of her latest novel Euphoria. Books will be available for purchase and signing courtesy of Mac&#39\;s Backs-Books on Coventry
LOCATION:Beachwood Branch of Cuyahoga County Public Library 25501 Shaker Blvd Beachwood OH 44122
UID:e.368.1106
SEQUENCE:3
DTSTAMP:20260420T060452Z
URL:https://public.beachwood.org/events/details/author-lily-king-06-10-2014-1106
END:VEVENT

END:VCALENDAR
