BEGIN:VCALENDAR
VERSION:2.0
PRODID:-//ChamberMaster//Event Calendar 2.0//EN
METHOD:PUBLISH
X-PUBLISHED-TTL:P3D
REFRESH-INTERVAL:P3D
CALSCALE:GREGORIAN
BEGIN:VEVENT
DTSTART:20140923T230000Z
DTEND:20140925T003000Z
X-MICROSOFT-CDO-ALLDAYEVENT:FALSE
SUMMARY:Author Laird Hunt
DESCRIPTION:Meet Laird Hunt\, whose latest novel\, NEVERHOME\, follows an adventurous farmer's wife as she leaves home to don the uniform of a Union soldier in the Civil War. Laird's last book\, KIND ONE\, focused on the difficult subject of slavery and was awarded a 2013 Anisfield-Wolf Book Award for its contribution to society's understanding of racism and diversity.
X-ALT-DESC;FMTTYPE=text/html:Meet Laird Hunt\, whose latest novel\, NEVERHOME\, follows an adventurous farmer&#39\;s wife as she leaves home to don the uniform of a Union soldier in the Civil War. Laird&#39\;s last book\, KIND ONE\, focused on the difficult subject of slavery and was awarded a 2013 Anisfield-Wolf Book Award for its contribution to society&rsquo\;s understanding of racism and diversity.
LOCATION:Beachwood Branch of Cuyahoga County Public Library 25501 Shaker Blvd Beachwood OH 44122
UID:e.368.1153
SEQUENCE:3
DTSTAMP:20260420T030417Z
URL:https://public.beachwood.org/events/details/author-laird-hunt-09-23-2014-1153
END:VEVENT

END:VCALENDAR
