BEGIN:VCALENDAR
VERSION:2.0
PRODID:-//ChamberMaster//Event Calendar 2.0//EN
METHOD:PUBLISH
X-PUBLISHED-TTL:P3D
REFRESH-INTERVAL:P3D
CALSCALE:GREGORIAN
BEGIN:VEVENT
DTSTART:20140903T230000Z
DTEND:20140904T010000Z
X-MICROSOFT-CDO-ALLDAYEVENT:FALSE
SUMMARY:Author David Laskin
DESCRIPTION:Meet the author of THE FAMILY THREE JOURNEYS INTO THE HEART OF THE TWENTIETH CENTURY\, a sweeping epic that spans the three great upheavals that affected Jews in the twentieth century: immigration\, two world wars\, and the founding of Israel.\n\n\n\nDAVID LASKIN is the bestselling author of The Children's Blizzard\, which won the Washington State Book Award and Midwest Booksellers' Choice Award for nonfiction. He is the author of several other books of nonfiction and also writes for The New York Times and The Washington Post.
X-ALT-DESC;FMTTYPE=text/html:Meet the author of THE FAMILY THREE JOURNEYS INTO THE HEART OF THE TWENTIETH CENTURY\, a sweeping epic that spans the three great upheavals that affected Jews in the twentieth century: immigration\, two world wars\, and the founding of Israel.<br />\n<br />\nDAVID LASKIN is the bestselling author of The Children&rsquo\;s Blizzard\, which won the Washington State Book Award and Midwest Booksellers&rsquo\; Choice Award for nonfiction. He is the author of several other books of nonfiction and also writes for The New York Times and The Washington Post.
LOCATION:Beachwood Branch of Cuyahoga County Public Library 25501 Shaker Blvd Beachwood OH 44122
UID:e.368.1146
SEQUENCE:3
DTSTAMP:20260420T030346Z
URL:https://public.beachwood.org/events/details/author-david-laskin-09-03-2014-1146
END:VEVENT

END:VCALENDAR
