BEGIN:VCALENDAR
VERSION:2.0
PRODID:-//ChamberMaster//Event Calendar 2.0//EN
METHOD:PUBLISH
X-PUBLISHED-TTL:P3D
REFRESH-INTERVAL:P3D
CALSCALE:GREGORIAN
BEGIN:VEVENT
DTSTART:20141104T000000Z
DTEND:20141104T013000Z
X-MICROSOFT-CDO-ALLDAYEVENT:FALSE
SUMMARY:Author/Activist Alice Rothchild
DESCRIPTION:Meet Alice Rothchild a physician and author who has worked in the health care reform and women's movements for many years.\n\nSince 1997\, she has focused much of her energy on understanding the Israeli/Palestinian conflict. She co-founded American Jews for a Just Peace-Boston\,\n\nand has organized annual health and human rights delegations to Israel and Palestine since 2003. She is the author of   two books\, Broken Promises\, Broken Dreams: Stories of Jewish and Palestinian Trauma and Resilience and On the Brink: Israel and Palestine on the Eve of the 2014 Gaza Invasion (2014)\,\n\nHer  film Voices Across the Divide\,  will make an exclusive premiere in the Cleveland area at the Cleveland Cinematheque on Sunday\, Nov 2 at 4:00 PM..  Books will be available for purchase and singing courtesy of Macs Backs Books on Coventry .Please register at www.cuyahogalibrary.org or call 216-831-6868.
X-ALT-DESC;FMTTYPE=text/html:Meet Alice Rothchild a physician and author who has worked in the health care reform and women&rsquo\;s movements for many years.<br />\nSince 1997\, she has focused much of her energy on understanding the Israeli/Palestinian conflict. She co-founded American Jews for a Just Peace-Boston\,<br />\nand has organized annual health and human rights delegations to Israel and Palestine since 2003. She is the author of&nbsp\;&nbsp\; two books\, Broken Promises\, Broken Dreams: Stories of Jewish and Palestinian Trauma and Resilience and On the Brink: Israel and Palestine on the Eve of the 2014 Gaza Invasion (2014)\,<br />\nHer&nbsp\; film Voices Across the Divide\,&nbsp\; will make an exclusive premiere in the Cleveland area at the Cleveland Cinematheque on Sunday\, Nov 2 at 4:00 PM..&nbsp\; Books will be available for purchase and singing courtesy of Macs Backs Books on Coventry .Please register at www.cuyahogalibrary.org or call 216-831-6868.
LOCATION:Beachwood Branch of Cuyahoga County Public Library 25501 Shaker Blvd Beachwood OH 44122
UID:e.368.1190
SEQUENCE:3
DTSTAMP:20260419T225841Z
URL:https://public.beachwood.org/events/details/author-activist-alice-rothchild-11-03-2014-1190
END:VEVENT

END:VCALENDAR
