BEGIN:VCALENDAR
VERSION:2.0
PRODID:-//ChamberMaster//Event Calendar 2.0//EN
METHOD:PUBLISH
X-PUBLISHED-TTL:P3D
REFRESH-INTERVAL:P3D
CALSCALE:GREGORIAN
BEGIN:VEVENT
DTSTART:20150805T210000Z
DTEND:20150805T223000Z
X-MICROSOFT-CDO-ALLDAYEVENT:FALSE
SUMMARY:August Networking After Five
DESCRIPTION:Registration is now closed\, walk-ins welcome!\n\n\n\nAugust Networking After Five\n\n\n\nJoin us for our monthly Networking After Five event at The Corner Alley - Uptown.\n\n\n\nLight refreshments will be served. Registration and networking will be upstairs.  Come ready to network and bowl.
X-ALT-DESC;FMTTYPE=text/html:<span style="color:#0000FF\;"><em><strong><span style="font-size:18px\;"><span style="font-family: tahoma\;">Registration is now closed\, walk-ins welcome!</span></span></strong></em></span><br />\n<br />\nAugust Networking After Five<br />\n<br />\nJoin us for our monthly Networking After Five event at The Corner Alley - Uptown.<br />\n<br />\nLight refreshments will be served. Registration and networking will be upstairs.&nbsp\; Come ready to network and bowl.
LOCATION:The Corner Alley - Uptown 11409 Euclid Avenue Cleveland\, OH 44106 FREE parking behind the building. Access from Ford Avenue and E. 115th Street
UID:e.368.1280
SEQUENCE:3
DTSTAMP:20260420T014143Z
URL:https://public.beachwood.org/events/details/august-networking-after-five-08-05-2015-1280
END:VEVENT

END:VCALENDAR
