BEGIN:VCALENDAR
VERSION:2.0
PRODID:-//ChamberMaster//Event Calendar 2.0//EN
METHOD:PUBLISH
X-PUBLISHED-TTL:P3D
REFRESH-INTERVAL:P3D
CALSCALE:GREGORIAN
BEGIN:VEVENT
DTSTART:20190807T153000Z
DTEND:20190807T170000Z
X-MICROSOFT-CDO-ALLDAYEVENT:FALSE
SUMMARY:August 2019 Western Reserve Safety Council Meeting
DESCRIPTION:Topic:  Safe 4 the Right Reasons\n\nSpeaker: Wylie Davidson\, DuVal Safety\n\nWylie Davidson is the Training and Culture Specialist\, as well as a Motivational speaker and Presenter for DiVal Safety Equipment\, located in Buffalo\, NY.\n\n \n\nWylie has been the Keynote or featured presenter at numerous national and regional accounts that include John Deere\, Exxon\, Kellogg?s\, NASA\, Anheuser Busch and Toyota as well as numerous national and regional conferences\n\n \n\nClick here to Register
X-ALT-DESC;FMTTYPE=text/html:<h1><strong>Topic:&nbsp\; Safe 4 the Right Reasons</strong></h1>\n\n<h2><strong><span style="font-family: arial\; font-size: 14px\;"><span style="font-size: 16px\;">Speaker: Wylie Davidson\, DuVal Safety</span></span></strong></h2>\n\n<p style="background-color: transparent\; box-sizing: border-box\; color: rgb(0\, 0\, 0)\; font-family: &quot\;Titillium Web&quot\;\,sans-serif\; font-size: 18px\; font-style: normal\; font-variant: normal\; font-weight: 500\; letter-spacing: normal\; line-height: 27px\; margin-bottom: 0px\; margin-left: 0px\; margin-right: 0px\; margin-top: 0px\; orphans: 2\; padding-bottom: 0px\; padding-left: 0px\; padding-right: 0px\; padding-top: 0px\; text-align: justify\; text-decoration: none\; text-indent: 0px\; text-transform: none\; -webkit-text-stroke-width: 0px\; white-space: normal\; word-spacing: 0px\;"><span style="font-size:14px\;"><span style="box-sizing: border-box\;">Wylie Davidson is the Training and Culture Specialist\, as well as a Motivational speaker and Presenter for DiVal Safety Equipment\, located in Buffalo\, NY.</span></span><br />\n&nbsp\;</p>\n\n<p style="background-color: transparent\; box-sizing: border-box\; color: rgb(0\, 0\, 0)\; font-family: &quot\;Titillium Web&quot\;\,sans-serif\; font-size: 18px\; font-style: normal\; font-variant: normal\; font-weight: 500\; letter-spacing: normal\; line-height: 27px\; margin-bottom: 0px\; margin-left: 0px\; margin-right: 0px\; margin-top: 0px\; orphans: 2\; padding-bottom: 0px\; padding-left: 0px\; padding-right: 0px\; padding-top: 0px\; text-align: justify\; text-decoration: none\; text-indent: 0px\; text-transform: none\; -webkit-text-stroke-width: 0px\; white-space: normal\; word-spacing: 0px\;"><span style="font-size:14px\;"><span style="box-sizing: border-box\;">Wylie has been the Keynote or featured presenter at numerous national and regional accounts that include John Deere\, Exxon\, Kellogg?s\, NASA\, Anheuser Busch and Toyota as well as numerous national and regional conferences</span></span></p>\n\n<p -webkit-text-stroke-width:="" font-size:="" font-style:="" font-variant:="" font-weight:="" letter-spacing:="" line-height:="" margin-bottom:="" margin-left:="" margin-right:="" margin-top:="" orphans:="" padding-bottom:="" padding-left:="" padding-right:="" padding-top:="" style="background-color: transparent\; box-sizing: border-box\; color: rgb(0\, 0\, 0)\; font-family: " text-align:="" text-decoration:="" text-indent:="" text-transform:="" titillium="" white-space:="" word-spacing:="">&nbsp\;</p>\n\n<p><a href="https://web.westernreservesc.org/events/WRSCProgram%20%20Safe%204%20The%20Right%20Reasons-6536/details"><em><strong><span style="font-size:14px\;">Click here to Register</span></strong></em></a></p>\n
LOCATION:Mustard Seed Market & Cafe (second floor) 6025 Kruse Drive Solon\, OH 44139
UID:e.368.8157
SEQUENCE:3
DTSTAMP:20260420T123615Z
URL:https://public.beachwood.org/events/details/august-2019-western-reserve-safety-council-meeting-8157
END:VEVENT

END:VCALENDAR
