BEGIN:VCALENDAR
VERSION:2.0
PRODID:-//ChamberMaster//Event Calendar 2.0//EN
METHOD:PUBLISH
X-PUBLISHED-TTL:P3D
REFRESH-INTERVAL:P3D
CALSCALE:GREGORIAN
BEGIN:VEVENT
DTSTART:20160803T210000Z
DTEND:20160803T223000Z
X-MICROSOFT-CDO-ALLDAYEVENT:FALSE
SUMMARY:August 2016 Networking After Five
DESCRIPTION:Online registration closed. Walk ins welcome!!\n\n\n\nBeachwood Chamber Networking After Five: August 3\, 2016 \n\nStart the month by joining us for our monthly Networking After Five event\, this month at University Hospitals Ahuja Medical Center in the Enid M & David B Rosenberg\, MD Conference Suite. \n\n\n	Light refreshments will be served.\n	Learn new networking tips and tricks\n	 Drop your business card for a chance to win a gift certificate\n	You won't want to miss your chance to win cash.  Every Beachwood Chamber member company name is placed in a hopper.  If your company name is pulled from the hopper and you are in attendance\, you win cash. If you were not there\, the current cash goes back into the pot and $25 more is added the next month!   It continues each month until there is a winner\, then we start again at $25.  The August drawing is now at $200\, but remember\, you MUST be there!
X-ALT-DESC;FMTTYPE=text/html:<p><span style="color:#0033cc\;"><strong>Online registration closed. Walk ins welcome!!<br />\n<br />\nBeachwood Chamber Networking After Five: August 3\, 2016 </strong></span></p>\n\n<p>Start the month by joining us for our monthly Networking After Five event\, this month at <strong>University Hospitals Ahuja Medical Center </strong><em>in the Enid M &amp\; David B Rosenberg\, MD Conference Suite</em>.&nbsp\;</p>\n\n<ul>\n	<li>Light refreshments will be served.</li>\n	<li>Learn new networking tips and tricks</li>\n	<li>&nbsp\;Drop your business card for a chance to win a gift certificate</li>\n	<li>You won&#39\;t want to miss your chance to win<em> cash</em>.&nbsp\; Every Beachwood Chamber member company name is placed in a hopper.&nbsp\; If your company name is pulled from the hopper and you are in attendance\, you win cash. If you were not there\, the current cash goes back into the pot and $25 more is added the next month! &nbsp\; It continues each month until there is a winner\, then we start again at $25.&nbsp\; <em>The August drawing is now at $200\, but remember\, you MUST be there!</em></li>\n</ul>\n
LOCATION:UH Ahuja Medical Center 3999 Richmond Road Beachwood\, OH 44122
UID:e.368.6030
SEQUENCE:3
DTSTAMP:20260420T165747Z
URL:https://public.beachwood.org/events/details/august-2016-networking-after-five-08-03-2016-6030
END:VEVENT

END:VCALENDAR
