BEGIN:VCALENDAR
VERSION:2.0
PRODID:-//ChamberMaster//Event Calendar 2.0//EN
METHOD:PUBLISH
X-PUBLISHED-TTL:P3D
REFRESH-INTERVAL:P3D
CALSCALE:GREGORIAN
BEGIN:VEVENT
DTSTART:20180621T213000Z
DTEND:20180622T003000Z
X-MICROSOFT-CDO-ALLDAYEVENT:FALSE
SUMMARY:Ask the Experts: Well-Being: Healthy Mind\, Healthy Body
DESCRIPTION:Well-Being: Healthy Mind\, Healthy Body\n\n\n\nModerated by: Michael Roizen\, MD\, Lifestyle Medicine Specialist\n\n\n\nDr. Michael Roizen and a team of Cleveland Clinic Integrative and Lifestyle Wellness experts will share their tips for taking control of your health.  By guiding you through dietary and lifestyle changes\, our integrative specialists will explain how alternative therapies can complement your lifestyle for optimal wellness.\n\n\n\nThis informative event includes complimentary health screenings\, well information and a sit-down dinner.\n\n\n\nBring your questions and bring a friend.\n\n\n\nRegister early.  This event sold out early last year!\n\n\n\nRegister at clevelandclinic.org/wellnessevent
X-ALT-DESC;FMTTYPE=text/html:<span style="font-size:16px\;"><strong>Well-Being: Healthy Mind\, Healthy Body</strong></span><br />\n<br />\nModerated by: Michael Roizen\, MD\, Lifestyle Medicine Specialist<br />\n<br />\nDr. Michael Roizen and a team of Cleveland Clinic Integrative and Lifestyle Wellness experts will share their tips for taking control of your health.&nbsp\; By guiding you through dietary and lifestyle changes\, our integrative specialists will explain how alternative therapies can complement your lifestyle for optimal wellness.<br />\n<br />\nThis informative event includes complimentary health screenings\, well information and a sit-down dinner.<br />\n<br />\nBring your questions and bring a friend.<br />\n<br />\nRegister early.&nbsp\; This event sold out early last year!<br />\n<br />\nRegister at <a href="http://www.clevelandclinic.org/wellnessevent">clevelandclinic.org/wellnessevent</a>
LOCATION:Executive Caterers at Landerhaven 6111 Landerhaven Drive Mayfield Heights\, OH 44124
UID:e.368.6909
SEQUENCE:3
DTSTAMP:20260420T202725Z
URL:https://public.beachwood.org/events/details/ask-the-experts-well-being-healthy-mind-healthy-body-6909
END:VEVENT

END:VCALENDAR
