BEGIN:VCALENDAR
VERSION:2.0
PRODID:-//ChamberMaster//Event Calendar 2.0//EN
METHOD:PUBLISH
X-PUBLISHED-TTL:P3D
REFRESH-INTERVAL:P3D
CALSCALE:GREGORIAN
BEGIN:VEVENT
DTSTART:20160623T213000Z
DTEND:20160624T003000Z
X-MICROSOFT-CDO-ALLDAYEVENT:FALSE
SUMMARY:Ask the Experts: Pathways to Wellness
DESCRIPTION:Ask the Experts: Pathways to Wellness\n\nSponsored by Cleveland Clinic Wellness Institute\n\n\n\nThis is an introduction to the Cleveland Clinic Wellness Institute.  Hear from multiple representatives from the Wellness Institute with demonstrations on Acupuncture and free health screenings.\n\n\n\nModerator:  Michael Roizen\, MD\, Lifestyle Medicine Specialist\n\n\n\nClick here for more information
X-ALT-DESC;FMTTYPE=text/html:<span style="color:#0066cc\;"><span style="font-size: 14px\;"><strong>Ask the Experts: Pathways to Wellness</strong></span><br />\n<em>Sponsored by Cleveland Clinic Wellness Institute</em></span><br />\n<br />\nThis is an introduction to the Cleveland Clinic Wellness Institute.&nbsp\; Hear from multiple representatives from the Wellness Institute with demonstrations on Acupuncture and free health screenings.<br />\n<br />\nModerator:&nbsp\; Michael Roizen\, MD\, Lifestyle Medicine Specialist<br />\n<br />\nClick <a href="https://chambermaster.blob.core.windows.net/userfiles/UserFiles/chambers/368/File/Pathways_to_Wellness_June23_2016.pdf">here</a> for more information<br />\n&nbsp\;
LOCATION:Executive Caterers at Landerhaven 6111 Landerhaven Drive Mayfield Hts\, OH 44124
UID:e.368.6022
SEQUENCE:3
DTSTAMP:20260420T141922Z
URL:https://public.beachwood.org/events/details/ask-the-experts-pathways-to-wellness-06-23-2016-6022
END:VEVENT

END:VCALENDAR
