BEGIN:VCALENDAR
VERSION:2.0
PRODID:-//ChamberMaster//Event Calendar 2.0//EN
METHOD:PUBLISH
X-PUBLISHED-TTL:P3D
REFRESH-INTERVAL:P3D
CALSCALE:GREGORIAN
BEGIN:VEVENT
DTSTART:20161019T213000Z
DTEND:20161019T233000Z
X-MICROSOFT-CDO-ALLDAYEVENT:FALSE
SUMMARY:Arthritis Foundation Jingle Bell Run Kickoff
DESCRIPTION:Gather your team members\, friends and family (registered or not!) and join the Arthritis Foundation at the 2016 Jingle Bell Run for Arthritis Kickoff! Everyone invited\, all ages welcome.\n\n\n\nEnjoy complimentary appetizers\, happy hour beverage pricing and enter to win prizes. Mix and mingle with fellow participants and receive exciting updates as the Arthritis Foundation officially kicks off Jingle Bell Run season!
X-ALT-DESC;FMTTYPE=text/html:Gather your team members\, friends and family (registered or not!) and join the Arthritis Foundation at the 2016 Jingle Bell Run for Arthritis Kickoff! Everyone invited\, all ages welcome.<br />\n<br />\nEnjoy complimentary appetizers\, happy hour beverage pricing and enter to win prizes. Mix and mingle with fellow participants and receive exciting updates as the Arthritis Foundation officially kicks off Jingle Bell Run season!
LOCATION:Bar Louie Legacy Village 24337 Cedar Road Lyndhurst\, OH 44124
UID:e.368.6052
SEQUENCE:3
DTSTAMP:20260420T193733Z
URL:https://public.beachwood.org/events/details/arthritis-foundation-jingle-bell-run-kickoff-6052
END:VEVENT

END:VCALENDAR
