BEGIN:VCALENDAR
VERSION:2.0
PRODID:-//ChamberMaster//Event Calendar 2.0//EN
METHOD:PUBLISH
X-PUBLISHED-TTL:P3D
REFRESH-INTERVAL:P3D
CALSCALE:GREGORIAN
BEGIN:VEVENT
DTSTART:20180307T173000Z
DTEND:20180307T210000Z
X-MICROSOFT-CDO-ALLDAYEVENT:FALSE
SUMMARY:Arthritis Expo West
DESCRIPTION:Hear expert speakers explain the latest information and answer your questions. \n	Enjoy free light refreshments.\n	View exhibits. \n	Take home free educational information.
X-ALT-DESC;FMTTYPE=text/html:<ul>\n	<li><span style="color:black"><span style="font-family:century gothic\,sans-serif"><span style="font-size:14.0pt">Hear expert speakers explain the latest information and answer your questions.</span></span></span><span style="color:black"><span style="font-family:century gothic\,sans-serif"><span style="font-size:14.0pt">&nbsp\;</span></span></span></li>\n	<li><span style="color:black"><span style="font-family:century gothic\,sans-serif"><span style="font-size:14.0pt">Enjoy free light refreshments.</span></span></span></li>\n	<li><span style="color:black"><span style="font-family:century gothic\,sans-serif"><span style="font-size:14.0pt"><span style="color:black"><span style="font-family:century gothic\,sans-serif"><span style="font-size:14.0pt">View exhibits.</span></span></span>&nbsp\;</span></span></span></li>\n	<li><span style="color:black"><span style="font-family:century gothic\,sans-serif"><span style="font-size:14.0pt">Take home free educational information.</span></span></span></li>\n</ul>\n
LOCATION:St. Bernadette Church\, Dempsey Hall 2256 Clague Rd. Westlake\, OH 44145
UID:e.368.6495
SEQUENCE:3
DTSTAMP:20260421T003220Z
URL:https://public.beachwood.org/events/details/arthritis-expo-west-6495
END:VEVENT

END:VCALENDAR
