BEGIN:VCALENDAR
VERSION:2.0
PRODID:-//ChamberMaster//Event Calendar 2.0//EN
METHOD:PUBLISH
X-PUBLISHED-TTL:P3D
REFRESH-INTERVAL:P3D
CALSCALE:GREGORIAN
BEGIN:VEVENT
DTSTART:20180426T163000Z
DTEND:20180426T200000Z
X-MICROSOFT-CDO-ALLDAYEVENT:FALSE
SUMMARY:Arthritis Expo East
DESCRIPTION:Hear expert speakers explain the latest information and answer your questions. \n	Enjoy free light refreshments. \n	View exhibits. \n	Take home free educational information.
X-ALT-DESC;FMTTYPE=text/html:<ul>\n	<li><span style="color:black"><span style="font-family:century gothic\,sans-serif"><span style="font-size:14.0pt">Hear expert speakers explain the latest information and answer your questions.&nbsp\;</span></span></span></li>\n	<li><span style="color:black"><span style="font-family:century gothic\,sans-serif"><span style="font-size:14.0pt">Enjoy free light refreshments.&nbsp\;</span></span></span></li>\n	<li><span style="color:black"><span style="font-family:century gothic\,sans-serif"><span style="font-size:14.0pt">View exhibits.&nbsp\;</span></span></span></li>\n	<li><span style="color:black"><span style="font-family:century gothic\,sans-serif"><span style="font-size:14.0pt">Take home free educational information.</span></span></span></li>\n</ul>\n
LOCATION:Solon Community Center 35000 Portz Pkwy Solon\, OH 44139
UID:e.368.6493
SEQUENCE:3
DTSTAMP:20260420T232236Z
URL:https://public.beachwood.org/events/details/arthritis-expo-east-6493
END:VEVENT

END:VCALENDAR
