BEGIN:VCALENDAR
VERSION:2.0
PRODID:-//ChamberMaster//Event Calendar 2.0//EN
METHOD:PUBLISH
X-PUBLISHED-TTL:P3D
REFRESH-INTERVAL:P3D
CALSCALE:GREGORIAN
BEGIN:VEVENT
DTSTART:20150112T190000Z
DTEND:20150112T203000Z
X-MICROSOFT-CDO-ALLDAYEVENT:FALSE
SUMMARY:Art Book Club
DESCRIPTION:Join us to discuss My Grandfather's Gallery: A Family Memoir of Art and War by Anne Sinclair\n\n\n\n""A singular man in the history of modern art\, betrayed by Vichy\, is the subject of this riveting family memoir. On September 20\, 1940\, one of the most famous European art dealers disembarked in New York\, one of hundreds of Jewish refugees fleeing Vichy France. Leaving behind his beloved Paris gallery\, Paul Rosenberg had managed to save his family\, but his paintings--modern masterpieces by Cezanne\, Monet\, Sisley\, and others--were not so fortunate. As he fled\, dozens of works were seized by Nazi forces and the art dealer's own legacy was eradicated. More than half a century later\, Anne Sinclair uncovered a box filled with letters. "Curious in spite of myself\," she writes\, "I plunged into these archives\, in search of the story of my family"
X-ALT-DESC;FMTTYPE=text/html:<div style="margin-left: 20px\;">&nbsp\;Join us to discuss My Grandfather&#39\;s Gallery: A Family Memoir of Art and War by Anne Sinclair<br />\n<br />\n&quot\;&quot\;A singular man in the history of modern art\, betrayed by Vichy\, is the subject of this riveting family memoir. On September 20\, 1940\, one of the most famous European art dealers disembarked in New York\, one of hundreds of Jewish refugees fleeing Vichy France. Leaving behind his beloved Paris gallery\, Paul Rosenberg had managed to save his family\, but his paintings--modern masterpieces by Cezanne\, Monet\, Sisley\, and others--were not so fortunate. As he fled\, dozens of works were seized by Nazi forces and the art dealer&#39\;s own legacy was eradicated. More than half a century later\, Anne Sinclair uncovered a box filled with letters. &quot\;Curious in spite of myself\,&quot\; she writes\, &quot\;I plunged into these archives\, in search of the story of my family&quot\;</div>\n
LOCATION:Beachwood Branch of Cuyahoga County Public Library 25501 Shaker Blvd Beachwood OH 44122
UID:e.368.1258
SEQUENCE:3
DTSTAMP:20260419T213415Z
URL:https://public.beachwood.org/events/details/art-book-club-01-12-2015-1258
END:VEVENT

END:VCALENDAR
