BEGIN:VCALENDAR
VERSION:2.0
PRODID:-//ChamberMaster//Event Calendar 2.0//EN
METHOD:PUBLISH
X-PUBLISHED-TTL:P3D
REFRESH-INTERVAL:P3D
CALSCALE:GREGORIAN
BEGIN:VEVENT
DTSTART:20140710T230000Z
DTEND:20140711T003000Z
X-MICROSOFT-CDO-ALLDAYEVENT:FALSE
SUMMARY:Art and Ilumination for Better Photography with Stuart Pearl
DESCRIPTION:Before photographers were shooting landscapes with their digital cameras\, the Master Landscape artists used paint\, canvas and a discerning eye to create beautiful vistas of the world around them. Today's photographer can learn much by studying these wonderful paintings and how those artists viewed the world. Professional photographer Stuart Pearl will show examples of his own photography and how he tries to incorporate techniques from the master painters who came before us. Please register at www.cuyahogalibrary.org or call 216-831-6868.
X-ALT-DESC;FMTTYPE=text/html:Before photographers were shooting landscapes with their digital cameras\, the Master Landscape artists used paint\, canvas and a discerning eye to create beautiful vistas of the world around them. Today&#39\;s photographer can learn much by studying these wonderful paintings and how those artists viewed the world. Professional photographer Stuart Pearl will show examples of his own photography and how he tries to incorporate techniques from the master painters who came before us. Please register at www.cuyahogalibrary.org or call 216-831-6868.
LOCATION:Beachwood Branch of Cuyahoga County Public Library 25501 Shaker Blvd Beachwood OH 44122
UID:e.368.1135
SEQUENCE:3
DTSTAMP:20260420T060901Z
URL:https://public.beachwood.org/events/details/art-and-ilumination-for-better-photography-with-stuart-pearl-07-10-2014-1135
END:VEVENT

END:VCALENDAR
