BEGIN:VCALENDAR
VERSION:2.0
PRODID:-//ChamberMaster//Event Calendar 2.0//EN
METHOD:PUBLISH
X-PUBLISHED-TTL:P3D
REFRESH-INTERVAL:P3D
CALSCALE:GREGORIAN
BEGIN:VEVENT
DTSTART:20150415T153000Z
DTEND:20150415T171000Z
X-MICROSOFT-CDO-ALLDAYEVENT:FALSE
SUMMARY:April Volunteer Recognition Luncheon 2015
DESCRIPTION:April Volunteer Recognition Luncheon\n\n\n\nRecognition of outstanding volunteers\n\nRecognition of the Beachwood Chamber Board of Directors\n\n \n\nGuest Speaker:  Roseanne Deucher\, Director of Business Engagement at Business Volunteers Unlimited
X-ALT-DESC;FMTTYPE=text/html:<p><br />\nApril Volunteer Recognition Luncheon<br />\n<br />\nRecognition of outstanding volunteers<br />\nRecognition of the Beachwood Chamber Board of Directors<br />\n&nbsp\;</p>\n\n<p>Guest Speaker:&nbsp\; <span style="font-family:calibri\,sans-serif\;"><span style="font-size:11.0pt\;">Roseanne Deucher\, Director of Business Engagement at Business Volunteers Unlimited</span></span></p>\n
LOCATION:DoubleTree 3663 Park East Drive Beachwood\, OH 44122
UID:e.368.1201
SEQUENCE:3
DTSTAMP:20260419T160638Z
URL:https://public.beachwood.org/events/details/april-volunteer-recognition-luncheon-2015-04-15-2015-1201
END:VEVENT

END:VCALENDAR
