BEGIN:VCALENDAR
VERSION:2.0
PRODID:-//ChamberMaster//Event Calendar 2.0//EN
METHOD:PUBLISH
X-PUBLISHED-TTL:P3D
REFRESH-INTERVAL:P3D
CALSCALE:GREGORIAN
BEGIN:VEVENT
DTSTART:20140423T153000Z
DTEND:20140423T171000Z
X-MICROSOFT-CDO-ALLDAYEVENT:FALSE
SUMMARY:April Volunteer Recognition Luncheon
DESCRIPTION:REGISTRY ONLINE CLOSED:\n\nPlease by calling the Chamber\n\nat (216) 831-0003\n\n\n\n\n\n\n\n\n\nApril Volunteer Recognition Luncheon\n\n\n\nRecognition of outstanding volunteers\n\nRecognition of the Beachwood Chamber Board of Directors\n\n \n\nGuest Speaker:  Shelley Roth\, President of Pierre's Ice Cream
X-ALT-DESC;FMTTYPE=text/html:<p><span style="font-family: arial\;"><strong><span style="font-size: 14px\;"><span style="color: rgb(0\, 0\, 205)\;"><strong><font size="3"><font color="#0000cd">REGISTRY ONLINE CLOSED:<br />\nPlease by calling the Chamber<br />\nat (216) 831-0003</font></font></strong></span></span></strong></span><br />\n<br />\n<br />\n<br />\n<br />\nApril Volunteer Recognition Luncheon<br />\n<br />\nRecognition of outstanding volunteers<br />\nRecognition of the Beachwood Chamber Board of Directors<br />\n&nbsp\;</p>\n\n<p>Guest Speaker:&nbsp\; Shelley Roth\, President of Pierre&#39\;s Ice Cream</p>\n
LOCATION:Canterbury Golf Club 22000 S. Woodland Avenue
UID:e.368.1104
SEQUENCE:3
DTSTAMP:20260420T090440Z
URL:https://public.beachwood.org/events/details/april-volunteer-recognition-luncheon-04-23-2014-1104
END:VEVENT

END:VCALENDAR
