BEGIN:VCALENDAR
VERSION:2.0
PRODID:-//ChamberMaster//Event Calendar 2.0//EN
METHOD:PUBLISH
X-PUBLISHED-TTL:P3D
REFRESH-INTERVAL:P3D
CALSCALE:GREGORIAN
BEGIN:VEVENT
DTSTART:20150401T210000Z
DTEND:20150401T223000Z
X-MICROSOFT-CDO-ALLDAYEVENT:FALSE
SUMMARY:April Networking After Five
DESCRIPTION:April Networking After Five\n\n\n\nJoin us for our monthly Networking After Five event hosted by Sanctuary Restaurant + Wine Bar (located inside DoubleTree Beachwood).\n\n\n\nLight refreshments will be served.
X-ALT-DESC;FMTTYPE=text/html:April Networking After Five<br>\n<br>\nJoin us for our monthly Networking After Five event hosted by Sanctuary Restaurant + Wine Bar (located inside DoubleTree Beachwood).<br>\n<br>\nLight refreshments will be served.
LOCATION:Sanctuary Restaurant + Wine Bar (DoubleTree Beachwood) 3663 Park East Drive Beachwood\, OH 44122
UID:e.368.1276
SEQUENCE:3
DTSTAMP:20260419T160516Z
URL:https://public.beachwood.org/events/details/april-networking-after-five-04-01-2015-1276
END:VEVENT

END:VCALENDAR
