BEGIN:VCALENDAR
VERSION:2.0
PRODID:-//ChamberMaster//Event Calendar 2.0//EN
METHOD:PUBLISH
X-PUBLISHED-TTL:P3D
REFRESH-INTERVAL:P3D
CALSCALE:GREGORIAN
BEGIN:VEVENT
DTSTART:20190403T153000Z
DTEND:20190403T170000Z
X-MICROSOFT-CDO-ALLDAYEVENT:FALSE
SUMMARY:April 2019 Western Reserve Safety Council Meeting
DESCRIPTION:Topic:  Building Safety Culture to Manage Worker's Comp Claims\n\nSpeaker: Jerry Kranokovich - Smuckers Corporation\n\nCLICK HERE TO REGISTER
X-ALT-DESC;FMTTYPE=text/html:<h1><strong>Topic:&nbsp\; Building Safety Culture to Manage Worker&#39\;s Comp Claims</strong></h1>\n\n<h2><strong><span style="font-family: arial\; font-size: 14px\;"><span style="font-size: 16px\;">Speaker: Jerry Kranokovich - Smuckers Corporation</span></span></strong></h2>\n\n<p><a href="http://westernreservesc.org/wrsc/"><span style="font-size:18px\;"><span style="color:#FF0000\;"><strong>CLICK HERE TO REGISTER</strong></span></span></a></p>\n
LOCATION:Mustard Seed Market & Cafe (second floor) 6025 Kruse Drive Solon\, OH 44139
UID:e.368.6957
SEQUENCE:3
DTSTAMP:20260420T063523Z
URL:https://public.beachwood.org/events/details/april-2019-western-reserve-safety-council-meeting-6957
END:VEVENT

END:VCALENDAR
