BEGIN:VCALENDAR
VERSION:2.0
PRODID:-//ChamberMaster//Event Calendar 2.0//EN
METHOD:PUBLISH
X-PUBLISHED-TTL:P3D
REFRESH-INTERVAL:P3D
CALSCALE:GREGORIAN
BEGIN:VEVENT
DTSTART:20170405T210000Z
DTEND:20170405T223000Z
X-MICROSOFT-CDO-ALLDAYEVENT:FALSE
SUMMARY:April 2017 Networking After Five
DESCRIPTION:THIS EVENT IS SOLD OUT.  WE ARE TAKING WAITING LIST NAMES\, PLEASE CONTACT THE OFFICE AT 216.831.0003 OR CHAMBER@BEACHWOOD.ORG\n\n\n\nBeachwood Chamber Networking After Five: Wednesday\, April 5\, 2017\n\nStart the month by joining us for our Annual Networking After Five event at:  D'MAZ Lifestyle Salon\n\n \n\nEnjoy ...\n\n\n	Light refreshments will be served.\n	Learn new networking tips and tricks\n	 Drop your business card for a chance to win a gift certificate\n\nThis month's location will be limited to 15 guests\, so register now!
X-ALT-DESC;FMTTYPE=text/html:<p><br />\n<span style="color:#FF0000\;"><strong>THIS EVENT IS SOLD OUT.&nbsp\; WE ARE TAKING WAITING LIST NAMES\, PLEASE CONTACT THE OFFICE AT 216.831.0003 OR CHAMBER@BEACHWOOD.ORG</strong></span><br />\n<br />\n<span style="color:#0033cc\;"><strong>Beachwood Chamber Networking After Five: Wednesday\, April 5\, 2017</strong></span></p>\n\n<p>Start the month by joining us for our Annual Networking After Five event<strong> </strong>at<strong>:&nbsp\; D&#39\;MAZ Lifestyle Salon</strong><br />\n&nbsp\;<br />\nEnjoy ...</p>\n\n<ul>\n	<li>Light refreshments will be served.</li>\n	<li>Learn new networking tips and tricks</li>\n	<li>&nbsp\;Drop your business card for a chance to win a gift certificate</li>\n</ul>\n<span style="font-size:14px\;"><strong><span style="color: rgb(255\, 0\, 0)\;">This month&#39\;s location will be limited to 15 guests\, so register now!</span></strong></span>
LOCATION:D'MAZ Lifestyle Salon 3609 Park East Dr. Ste. 518 Beachwood\, OH 44122
UID:e.368.6255
SEQUENCE:3
DTSTAMP:20260421T040017Z
URL:https://public.beachwood.org/events/details/april-2017-networking-after-five-6255
END:VEVENT

END:VCALENDAR
