BEGIN:VCALENDAR
VERSION:2.0
PRODID:-//ChamberMaster//Event Calendar 2.0//EN
METHOD:PUBLISH
X-PUBLISHED-TTL:P3D
REFRESH-INTERVAL:P3D
CALSCALE:GREGORIAN
BEGIN:VEVENT
DTSTART:20160420T153000Z
DTEND:20160420T171000Z
X-MICROSOFT-CDO-ALLDAYEVENT:FALSE
SUMMARY:April 2016 Volunteer Appreciation Luncheon
DESCRIPTION:Beachwood Chamber April Volunteer Recognition Luncheon\n\n\n\nSponsored by:  PNC\n\n\n\nJoin us as we recognize ...\n\n	Outstanding Volunteers\n	The Beachwood Chamber's Board of Directors\n\n\n\nTo make your experience more enjoyable ... Please note in "comments" special dietary requirements (non-dairy\, gluten free\, or vegetarian).   Or you may email chamber@beachwood.org.  We must have your dietary requirements no later than Monday\, April 18th. Thank you!
X-ALT-DESC;FMTTYPE=text/html:Beachwood Chamber April Volunteer Recognition Luncheon<br />\n<br />\nSponsored by:&nbsp\; PNC<br />\n<br />\nJoin us as we recognize ...\n<ul>\n	<li>Outstanding Volunteers</li>\n	<li>The Beachwood Chamber&#39\;s Board of Directors</li>\n</ul>\n<br />\n<em><strong>To make your experience more enjoyable</strong> </em>... Please note in &quot\;comments&quot\; special dietary requirements (non-dairy\, gluten free\, or vegetarian). &nbsp\; Or you may email <a href="mailto:chamber@beachwood.org">chamber@beachwood.org</a>.&nbsp\; We must have your dietary requirements no later than Monday\, April 18th. Thank you!
LOCATION:Maggiano's Little Italy Beachwood Place 26300 Cedar Road Beachwood\, OH 44122
UID:e.368.4827
SEQUENCE:3
DTSTAMP:20260420T115628Z
URL:https://public.beachwood.org/events/details/april-2016-volunteer-appreciation-luncheon-04-20-2016-4827
END:VEVENT

END:VCALENDAR
