BEGIN:VCALENDAR
VERSION:2.0
PRODID:-//ChamberMaster//Event Calendar 2.0//EN
METHOD:PUBLISH
X-PUBLISHED-TTL:P3D
REFRESH-INTERVAL:P3D
CALSCALE:GREGORIAN
BEGIN:VEVENT
DTSTART:20160406T210000Z
DTEND:20160406T223000Z
X-MICROSOFT-CDO-ALLDAYEVENT:FALSE
SUMMARY:April 2016 Networking After Five
DESCRIPTION:Beachwood Chamber Networking After Five: April 6\, 2016 \n\nJoin us for our monthly Networking After Five event\, this month at Kindred Assisted Living/The Fountains\, which provides a full range of assisted living services to keep residents independent along with respite care.\n\n\n	Light refreshments will be served.\n	Learn new networking tips and tricks\n	 Drop your business card for a chance to win a gift certificate\n	You won't want to miss your chance to win cash.  Every Beachwood Chamber member company name is placed in a hopper.  If your company name is pulled from the hopper and you are in attendance\, you win cash. If you were not there\, the current cash goes back into the pot and $25 more is added the next month!   It continues each month until there is a winner\, then we start again at $25.  The April drawing is now at $150\, but remember\, you MUST be there!
X-ALT-DESC;FMTTYPE=text/html:<p><span style="color:#0033cc\;"><strong>Beachwood Chamber Networking After Five: April 6\, 2016 </strong></span></p>\n\n<p>Join us for our monthly Networking After Five event\, this month at Kindred Assisted Living/The Fountains\, which provides a full range of assisted living services to keep residents independent along with respite care.</p>\n\n<ul>\n	<li>Light refreshments will be served.</li>\n	<li>Learn new networking tips and tricks</li>\n	<li>&nbsp\;Drop your business card for a chance to win a gift certificate</li>\n	<li>You won&#39\;t want to miss your chance to win<em> cash</em>.&nbsp\; Every Beachwood Chamber member company name is placed in a hopper.&nbsp\; If your company name is pulled from the hopper and you are in attendance\, you win cash. If you were not there\, the current cash goes back into the pot and $25 more is added the next month! &nbsp\; It continues each month until there is a winner\, then we start again at $25.&nbsp\; <em>The April drawing is now at $150\, but remember\, you MUST be there!</em></li>\n</ul>\n
LOCATION:Kindred Assisted Living The Fountains 1555 Brainard Road Lyndhurst Located between Cedar & Mayfield Roads\, just south of Mayfield on Brainard. On east side of of Brainard. When pulling into driveway\, The Fountains will be the building on the left. Parking is at the building.
UID:e.368.4823
SEQUENCE:3
DTSTAMP:20260420T115217Z
URL:https://public.beachwood.org/events/details/april-2016-networking-after-five-04-06-2016-4823
END:VEVENT

END:VCALENDAR
