BEGIN:VCALENDAR
VERSION:2.0
PRODID:-//ChamberMaster//Event Calendar 2.0//EN
METHOD:PUBLISH
X-PUBLISHED-TTL:P3D
REFRESH-INTERVAL:P3D
CALSCALE:GREGORIAN
BEGIN:VEVENT
DTSTART;VALUE=DATE:20210910
DTEND;VALUE=DATE:20210911
TRANSP:TRANSPARENT
X-MICROSOFT-CDO-ALLDAYEVENT:TRUE
SUMMARY:Annual Golf Outing
DESCRIPTION:Join us for this year's golf outing where we have lots of fun planned for you. \n\nYou can register as an individual golfer or as a foursome. If you register as a foursome\, please give us the names of everyone in your group.\n\nYou can purchase skins\, mulligans\, raffle tickets\, drink tickets and more all through this site!\n\nWe will also have some fun games to test your skill...and your sense of humor!\n\n \n\nHole 1 - Mimosas!\n\nHole 2 - Beat the Pro (Longest Drive)\n\nHole 3 - Hole in One Challenge\n\nHole 4 - "Dress Up" to Advance Your Tee\n\nHole 5 - Hot Sauce Hole\n\nHole 6 - Longest Putt (Women)\n\nHole 7 - Beat the Pro (Closest to Pin)\n\nHole 8 - Straightest Drive\n\nHole 9 - Guess the Tees in the Jar\n\nHole 10 - Wheel of Fortune\n\nHole 11 - No Club Greater than 7 Iron\n\nHole 12 - Foursome Photo for Social\n\nHole 13 - 50/50 (Hit the Green)\n\nHole 14 - Longest Putt (Men)\n\nHole 15 - Guess the Number of Water Shots\n\nHole 16 - Closest to the Pin (Men and Women)\n\nHole 17 - Marshmallow Drive Hole\n\nHole 18 - Golf Ball Launcher
X-ALT-DESC;FMTTYPE=text/html:<p style="margin: 0px\; padding: 0px 0px 1em\; border: 0px\; line-height: 1.4\; font-size: 15px\; box-sizing: border-box\; color: rgb(27\, 30\, 33)\; font-family: Quicksand\, Verdana\, sans-serif\;">Join us for this year&#39\;s golf outing where we have lots of fun planned for you.&nbsp\;</p>\n\n<p style="margin: 0px\; padding: 0px 0px 1em\; border: 0px\; line-height: 1.4\; font-size: 15px\; box-sizing: border-box\; color: rgb(27\, 30\, 33)\; font-family: Quicksand\, Verdana\, sans-serif\;">You can register as an individual golfer or as a foursome. If you register as a foursome\, please give us the names of everyone in your group.</p>\n\n<p style="margin: 0px\; padding: 0px 0px 1em\; border: 0px\; line-height: 1.4\; font-size: 15px\; box-sizing: border-box\; color: rgb(27\, 30\, 33)\; font-family: Quicksand\, Verdana\, sans-serif\;">You can purchase skins\, mulligans\, raffle tickets\, drink tickets and more all through this site!</p>\n\n<p style="margin: 0px\; padding: 0px 0px 1em\; border: 0px\; line-height: 1.4\; font-size: 15px\; box-sizing: border-box\; color: rgb(27\, 30\, 33)\; font-family: Quicksand\, Verdana\, sans-serif\;">We will also have some fun games to test your skill...and your sense of humor!</p>\n\n<p style="margin: 0px\; padding: 0px 0px 1em\; border: 0px\; line-height: 1.4\; font-size: 15px\; box-sizing: border-box\; color: rgb(27\, 30\, 33)\; font-family: Quicksand\, Verdana\, sans-serif\;">&nbsp\;</p>\n\n<p style="margin: 0px\; padding: 0px 0px 1em\; border: 0px\; line-height: 1.4\; font-size: 15px\; box-sizing: border-box\; color: rgb(27\, 30\, 33)\; font-family: Quicksand\, Verdana\, sans-serif\;">Hole 1 - Mimosas!</p>\n\n<p style="margin: 0px\; padding: 0px 0px 1em\; border: 0px\; line-height: 1.4\; font-size: 15px\; box-sizing: border-box\; color: rgb(27\, 30\, 33)\; font-family: Quicksand\, Verdana\, sans-serif\;">Hole 2 - Beat the Pro&nbsp\;<em style="box-sizing: border-box\;">(Longest Drive)</em></p>\n\n<p style="margin: 0px\; padding: 0px 0px 1em\; border: 0px\; line-height: 1.4\; font-size: 15px\; box-sizing: border-box\; color: rgb(27\, 30\, 33)\; font-family: Quicksand\, Verdana\, sans-serif\;">Hole 3 - Hole in One Challenge</p>\n\n<p style="margin: 0px\; padding: 0px 0px 1em\; border: 0px\; line-height: 1.4\; font-size: 15px\; box-sizing: border-box\; color: rgb(27\, 30\, 33)\; font-family: Quicksand\, Verdana\, sans-serif\;">Hole 4 - &quot\;Dress Up&quot\; to Advance Your Tee</p>\n\n<p style="margin: 0px\; padding: 0px 0px 1em\; border: 0px\; line-height: 1.4\; font-size: 15px\; box-sizing: border-box\; color: rgb(27\, 30\, 33)\; font-family: Quicksand\, Verdana\, sans-serif\;">Hole 5 - Hot Sauce Hole</p>\n\n<p style="margin: 0px\; padding: 0px 0px 1em\; border: 0px\; line-height: 1.4\; font-size: 15px\; box-sizing: border-box\; color: rgb(27\, 30\, 33)\; font-family: Quicksand\, Verdana\, sans-serif\;">Hole 6 - Longest Putt&nbsp\;<em style="box-sizing: border-box\;">(Women)</em></p>\n\n<p style="margin: 0px\; padding: 0px 0px 1em\; border: 0px\; line-height: 1.4\; font-size: 15px\; box-sizing: border-box\; color: rgb(27\, 30\, 33)\; font-family: Quicksand\, Verdana\, sans-serif\;">Hole 7 - Beat the Pro<em style="box-sizing: border-box\;">&nbsp\;(Closest to Pin)</em></p>\n\n<p style="margin: 0px\; padding: 0px 0px 1em\; border: 0px\; line-height: 1.4\; font-size: 15px\; box-sizing: border-box\; color: rgb(27\, 30\, 33)\; font-family: Quicksand\, Verdana\, sans-serif\;">Hole 8 - Straightest Drive</p>\n\n<p style="margin: 0px\; padding: 0px 0px 1em\; border: 0px\; line-height: 1.4\; font-size: 15px\; box-sizing: border-box\; color: rgb(27\, 30\, 33)\; font-family: Quicksand\, Verdana\, sans-serif\;">Hole 9 - Guess the Tees in the Jar</p>\n\n<p style="margin: 0px\; padding: 0px 0px 1em\; border: 0px\; line-height: 1.4\; font-size: 15px\; box-sizing: border-box\; color: rgb(27\, 30\, 33)\; font-family: Quicksand\, Verdana\, sans-serif\;">Hole 10 - Wheel of Fortune</p>\n\n<p style="margin: 0px\; padding: 0px 0px 1em\; border: 0px\; line-height: 1.4\; font-size: 15px\; box-sizing: border-box\; color: rgb(27\, 30\, 33)\; font-family: Quicksand\, Verdana\, sans-serif\;">Hole 11 - No Club Greater than 7 Iron</p>\n\n<p style="margin: 0px\; padding: 0px 0px 1em\; border: 0px\; line-height: 1.4\; font-size: 15px\; box-sizing: border-box\; color: rgb(27\, 30\, 33)\; font-family: Quicksand\, Verdana\, sans-serif\;">Hole 12 - Foursome Photo for Social</p>\n\n<p style="margin: 0px\; padding: 0px 0px 1em\; border: 0px\; line-height: 1.4\; font-size: 15px\; box-sizing: border-box\; color: rgb(27\, 30\, 33)\; font-family: Quicksand\, Verdana\, sans-serif\;">Hole 13 - 50/50&nbsp\;<em style="box-sizing: border-box\;">(Hit the Green)</em></p>\n\n<p style="margin: 0px\; padding: 0px 0px 1em\; border: 0px\; line-height: 1.4\; font-size: 15px\; box-sizing: border-box\; color: rgb(27\, 30\, 33)\; font-family: Quicksand\, Verdana\, sans-serif\;">Hole 14<em style="box-sizing: border-box\;">&nbsp\;-&nbsp\;</em>Longest Putt<em style="box-sizing: border-box\;">&nbsp\;(Men)</em></p>\n\n<p style="margin: 0px\; padding: 0px 0px 1em\; border: 0px\; line-height: 1.4\; font-size: 15px\; box-sizing: border-box\; color: rgb(27\, 30\, 33)\; font-family: Quicksand\, Verdana\, sans-serif\;">Hole 15 - Guess the Number of Water Shots</p>\n\n<p style="margin: 0px\; padding: 0px 0px 1em\; border: 0px\; line-height: 1.4\; font-size: 15px\; box-sizing: border-box\; color: rgb(27\, 30\, 33)\; font-family: Quicksand\, Verdana\, sans-serif\;">Hole 16 - Closest to the Pin&nbsp\;<em style="box-sizing: border-box\;">(Men and Women)</em></p>\n\n<p style="margin: 0px\; padding: 0px 0px 1em\; border: 0px\; line-height: 1.4\; font-size: 15px\; box-sizing: border-box\; color: rgb(27\, 30\, 33)\; font-family: Quicksand\, Verdana\, sans-serif\;">Hole 17 - Marshmallow Drive Hole</p>\n\n<p style="margin: 0px\; padding: 0px 0px 1em\; border: 0px\; line-height: 1.4\; font-size: 15px\; box-sizing: border-box\; color: rgb(27\, 30\, 33)\; font-family: Quicksand\, Verdana\, sans-serif\;">Hole 18 - Golf Ball Launcher</p>\n
LOCATION:
UID:e.368.8426
SEQUENCE:3
DTSTAMP:20260421T113151Z
URL:https://public.beachwood.org/events/details/annual-golf-outing-8426
END:VEVENT

END:VCALENDAR
