BEGIN:VCALENDAR
VERSION:2.0
PRODID:-//ChamberMaster//Event Calendar 2.0//EN
METHOD:PUBLISH
X-PUBLISHED-TTL:P3D
REFRESH-INTERVAL:P3D
CALSCALE:GREGORIAN
BEGIN:VEVENT
DTSTART:20170613T150000Z
DTEND:20170613T170000Z
X-MICROSOFT-CDO-ALLDAYEVENT:FALSE
SUMMARY:Alzheimer's Association\, Cleveland Area Chapter Annual Meeting
DESCRIPTION:Join us for lunch and learn more about how our communities are helping to clear the cloud of Alzheimer's stigma. We will also celebrate and recognize the outstanding contributions of our many dedicated volunteers and community partners proudly honoring Ann Paras with the Arlene Ellis Volunteer of the Year Award and Visiting Angels of NE Ohio with the Jennifer Langston Community Service Award.
X-ALT-DESC;FMTTYPE=text/html:Join us for lunch and learn more about how our communities are helping to clear the cloud of Alzheimer&#39\;s stigma. We will also celebrate and recognize the outstanding contributions of our many dedicated volunteers and community partners proudly honoring Ann Paras with the Arlene Ellis Volunteer of the Year Award and Visiting Angels of NE Ohio with the Jennifer Langston Community Service Award.
LOCATION:Holiday Inn Cleveland South 6001 Rockside Rd Independence\, OH
UID:e.368.6305
SEQUENCE:3
DTSTAMP:20260421T065023Z
URL:https://public.beachwood.org/events/details/alzheimer-s-association-cleveland-area-chapter-annual-meeting-6305
END:VEVENT

END:VCALENDAR
