BEGIN:VCALENDAR
VERSION:2.0
PRODID:-//ChamberMaster//Event Calendar 2.0//EN
METHOD:PUBLISH
X-PUBLISHED-TTL:P3D
REFRESH-INTERVAL:P3D
CALSCALE:GREGORIAN
BEGIN:VEVENT
DTSTART:20181115T210000Z
DTEND:20181116T000000Z
X-MICROSOFT-CDO-ALLDAYEVENT:FALSE
SUMMARY:All City Candy's Corporate Gifting Made Easy Event!
DESCRIPTION:Hello Beachwood Chamber members!  Your friends at All City Candy are hosting a special event to help you get a jump on your holiday gifting. Want to show your appreciation to important customers\, clients\, business associates\, employees\, friends and family?  Stop by one of our stores for your personal shopping consultation and:\n\n \n\nView our selection of gift baskets and gift ideas\n\nDiscuss custom design work/messaging/delivery needs\n\nSample our chocolate covered Oreos and pretzels\n\nReceive exclusive discounts\n\nBring your gift list with names and addresses in any format and we can complete the order process right there\n\nLeave with a thank you gift\, and peace of mind that your holiday gifting has been taken care of!\n\n \n\nNo need to RSVP- just show up and either location! \n\nThursday\, November 15\, 2018\n\n4pm-7pm\n\n \n\nAll City Candy - Richmond Heights\n\n746 Richmond Road\n\nRichmond Heights\, Ohio 44143\n\n216.487.7070\n\n \n\nAll City Candy - Mentor\n\n7441 Mentor Avenue\n\nMentor\, Ohio 44060\n\n440.701.6888
X-ALT-DESC;FMTTYPE=text/html:<span style="color:#222222"><span style="font-family:arial\,sans-serif">Hello Beachwood Chamber members!&nbsp\; Your friends at All City Candy are hosting a special event to help you get a jump on your holiday gifting. Want to show your appreciation to important customers\, clients\, business associates\, employees\, friends and family?&nbsp\; Stop by one of our stores for your personal shopping consultation and:</span></span><br />\n&nbsp\;<br />\n<span style="color:#222222"><span style="font-family:arial\,sans-serif">View our selection of gift baskets and gift ideas</span></span><br />\n<span style="color:#222222"><span style="font-family:arial\,sans-serif">Discuss custom design work/messaging/delivery needs</span></span><br />\n<span style="color:#222222"><span style="font-family:arial\,sans-serif">Sample our chocolate covered Oreos and pretzels</span></span><br />\n<span style="color:#222222"><span style="font-family:arial\,sans-serif">Receive exclusive discounts</span></span><br />\n<span style="color:#222222"><span style="font-family:arial\,sans-serif">Bring your gift list with names and addresses in any format and we can complete the order process right there</span></span><br />\n<span style="color:#222222"><span style="font-family:arial\,sans-serif">Leave with a thank you gift\, and peace of mind that your holiday gifting has been taken care of!</span></span><br />\n&nbsp\;<br />\n<span style="color:#222222"><span style="font-family:arial\,sans-serif">No need to RSVP- just show up and either location!&nbsp\;</span></span><br />\n<span style="color:#222222"><span style="font-family:arial\,sans-serif">Thursday\, November 15\, 2018</span></span><br />\n<span style="color:#222222"><span style="font-family:arial\,sans-serif">4pm-7pm</span></span><br />\n&nbsp\;<br />\n<span style="color:#222222"><span style="font-family:arial\,sans-serif">All City Candy - Richmond Heights</span></span><br />\n<span style="color:#222222"><span style="font-family:arial\,sans-serif">746 Richmond Road</span></span><br />\n<span style="color:#222222"><span style="font-family:arial\,sans-serif">Richmond Heights\, Ohio 44143</span></span><br />\n<span style="color:#222222"><span style="font-family:arial\,sans-serif">216.487.7070</span></span><br />\n&nbsp\;<br />\n<span style="color:#222222"><span style="font-family:arial\,sans-serif">All City Candy - Mentor</span></span><br />\n<span style="color:#222222"><span style="font-family:arial\,sans-serif">7441 Mentor Avenue</span></span><br />\n<span style="color:#222222"><span style="font-family:arial\,sans-serif">Mentor\, Ohio 44060</span></span><br />\n<span style="color:#222222"><span style="font-family:arial\,sans-serif">440.701.6888</span></span>
LOCATION:All City Candy - Richmond Heights 746 Richmond Road Richmond Heights\, Ohio 44143 216.487.7070 All City Candy - Mentor 7441 Mentor Avenue Mentor\, Ohio 44060 440.701.6888
UID:e.368.7991
SEQUENCE:3
DTSTAMP:20260420T134540Z
URL:https://public.beachwood.org/events/details/all-city-candy-s-corporate-gifting-made-easy-event-7991
END:VEVENT

END:VCALENDAR
