BEGIN:VCALENDAR
VERSION:2.0
PRODID:-//ChamberMaster//Event Calendar 2.0//EN
METHOD:PUBLISH
X-PUBLISHED-TTL:P3D
REFRESH-INTERVAL:P3D
CALSCALE:GREGORIAN
BEGIN:VEVENT
DTSTART:20081104T130000Z
DTEND:20081104T213000Z
X-MICROSOFT-CDO-ALLDAYEVENT:FALSE
SUMMARY:AES Compliance Seminar
DESCRIPTION:AES Compliance SeminarHosted by the U.S. Export Assistance Centerand supported by the ITAC The New Foreign Trade Regulations and Mandatory Automated Export System Filing Requirements are Here! Be the first to attend the AES Compliance Seminar in Cleveland since the release of the new Foreign Trade Regulations (FTR). The U.S. Census Bureau experts willteach you about the export regulations\,explain your responsibilities under the laws\,thoroughly cover the filing of required export information through the Automated Export System (AES)\,and make sure you understand the Schedule B classification requirements. The Customs & Border Protection (CBP) expert will also thoroughly cover port requirements and efforts against terrorism and international narcotics trafficking. For more information\, cost\, registration\, click here or visit: http://www.buyusa.gov/northeastohio/aesseminar.html
X-ALT-DESC;FMTTYPE=text/html:<div align="center"><font size="4"><strong>AES Compliance Seminar</strong></font></div><div align="center">Hosted by the U.S. Export Assistance Center</div><div align="center">and supported by the ITAC</div><div>&nbsp\;</div><div align="center">The New Foreign Trade Regulations and Mandatory Automated Export System Filing Requirements are Here!</div><div>&nbsp\;</div><div>Be the first to attend the AES Compliance Seminar in Cleveland since the release of the new Foreign Trade Regulations (FTR).</div><div>&nbsp\;</div><div>The U.S. Census Bureau experts will</div><ul><li>teach you about the export regulations\,</li><li>explain your responsibilities under the laws\,</li><li>thoroughly cover the filing of required export information through the Automated Export System (AES)\,</li><li>and make sure you understand the Schedule B classification requirements.</li></ul><div>&nbsp\;The Customs &amp\; Border Protection (CBP) expert will also thoroughly cover port requirements and efforts against terrorism and international narcotics trafficking.</div><div>&nbsp\;</div><div>For more information\, cost\,&nbsp\;registration\, <a href="https://secure.chambermaster.com/FCKeditor/UserFiles/chambers/368/File/AES%20Seminar%20Flyer-updated%2010-23.pdf">click here</a> or visit: <a href="http://www.buyusa.gov/northeastohio/aesseminar.html">http://www.buyusa.gov/northeastohio/aesseminar.html</a></div><div>&nbsp\;</div>
LOCATION:TuesdayNovember 4\, 20088:00 AM-4:30 PM
UID:e.368.113
SEQUENCE:3
DTSTAMP:20260424T005219Z
URL:https://public.beachwood.org/events/details/aes-compliance-seminar-11-04-2008-113
END:VEVENT

END:VCALENDAR
