BEGIN:VCALENDAR
VERSION:2.0
PRODID:-//ChamberMaster//Event Calendar 2.0//EN
METHOD:PUBLISH
X-PUBLISHED-TTL:P3D
REFRESH-INTERVAL:P3D
CALSCALE:GREGORIAN
BEGIN:VEVENT
DTSTART:20090306T130000Z
DTEND:20090306T203000Z
X-MICROSOFT-CDO-ALLDAYEVENT:FALSE
SUMMARY:Ad-ventures: Creating a Path for Small Business
DESCRIPTION:Corporate College East is holdingad-Ventures: Creating a Path for Small Business\, a one-day symposium for you to learn how to successfully launch your business venture or to learn how to get your existing business back on track. The sympsium will be held on Friday\, March 6\, 2009\, at Corporate College East\, 4400 Richmond Road\, Warrensville Hts. The day includes:8:00 AM - Registration\n8:45 AM - Continental Breakfast\n9:00 AM - Panel Discussion\n10:30 AM - Workshops (1)\n11:30 AM - Lunch\nNoon - Keynote Address by Umberto P. Fedeli\, President & CEO of The Fedeli Group\, one of the largest privately held insurance firms in Ohio.\n1:30 PM - Workshops (2)\n2:30 PM - Workshops (3)\n3:30 PM - ClosingFor more information on this event and to register\, go to http://adventures.keyentrepreneurs.org or contact: andrew.bajda@tri-c.edu or lisa.dobransky@tri-c.edu.Cost is: $50.
X-ALT-DESC;FMTTYPE=text/html:<p>Corporate College East is holding</p><p>ad-Ventures: Creating a Path for Small Business\, a one-day symposium for you to learn how to successfully launch your business venture or&nbsp\;to&nbsp\;learn how to get your existing business back on track.&nbsp\;</p><p>The sympsium will be held on Friday\, March 6\, 2009\, at Corporate College East\, 4400 Richmond Road\, Warrensville Hts. The day includes:</p><p>8:00 AM - Registration<br />8:45 AM - Continental Breakfast<br />9:00 AM - Panel Discussion<br />10:30 AM - Workshops (1)<br />11:30 AM - Lunch<br />Noon - Keynote Address by Umberto P. Fedeli\, President &amp\; CEO of The Fedeli Group\, one of the largest privately held insurance firms in Ohio.<br />1:30 PM - Workshops (2)<br />2:30 PM - Workshops (3)<br />3:30 PM - Closing</p><p>For more information on this event and to register\, go to <a href="http://adventures.keyentrepreneurs.org">http://adventures.keyentrepreneurs.org</a>&nbsp\;or contact: <a href="mailto:andrew.bajda@tri-c.edu">andrew.bajda@tri-c.edu</a> or <a href="mailto:lisa.dobransky@tri-c.edu">lisa.dobransky@tri-c.edu</a>.</p><p>Cost is: $50.</p>
LOCATION:Corporate College East4400 Richmond RoadWarrensville Hts\, OH
UID:e.368.159
SEQUENCE:3
DTSTAMP:20260423T201848Z
URL:https://public.beachwood.org/events/details/ad-ventures-creating-a-path-for-small-business-03-06-2009-159
END:VEVENT

END:VCALENDAR
