BEGIN:VCALENDAR
VERSION:2.0
PRODID:-//ChamberMaster//Event Calendar 2.0//EN
METHOD:PUBLISH
X-PUBLISHED-TTL:P3D
REFRESH-INTERVAL:P3D
CALSCALE:GREGORIAN
BEGIN:VEVENT
DTSTART:20090709T153000Z
DTEND:20090709T173000Z
X-MICROSOFT-CDO-ALLDAYEVENT:FALSE
SUMMARY:A Conversation with MAYOR FRANK JACKSON
DESCRIPTION:EXECUTIVE CATERERS?\nCorporate Club at Landerhaven presents?\n\nA Conversation with\nMAYOR FRANK G. JACKSON\n\nMayor Jackson?s Urban Agenda ? Investing in Cleveland?s Future\nTopics: Self-help\, sustainability\, workforce development\, education\, training\, neighborhood revitalization\n\nModerated by Leon Bibb\, Anchor\, NewsChannel 5
X-ALT-DESC;FMTTYPE=text/html:EXECUTIVE CATERERS?\nCorporate Club at Landerhaven presents?\n\nA Conversation with\nMAYOR FRANK G. JACKSON\n\nMayor Jackson?s Urban Agenda ? Investing in Cleveland?s Future\nTopics: Self-help\, sustainability\, workforce development\, education\, training\, neighborhood revitalization\n\nModerated by Leon Bibb\, Anchor\, NewsChannel 5
LOCATION:Executive Caterers at Landerhaven 6111 Landerhaven Drive Mayfield Heights\, OH 44124
UID:e.368.222
SEQUENCE:3
DTSTAMP:20260423T160319Z
URL:https://public.beachwood.org/events/details/a-conversation-with-mayor-frank-jackson-07-09-2009-222
END:VEVENT

END:VCALENDAR
