BEGIN:VCALENDAR
VERSION:2.0
PRODID:-//ChamberMaster//Event Calendar 2.0//EN
METHOD:PUBLISH
X-PUBLISHED-TTL:P3D
REFRESH-INTERVAL:P3D
CALSCALE:GREGORIAN
BEGIN:VEVENT
DTSTART:20081116T150000Z
DTEND:20081116T210000Z
X-MICROSOFT-CDO-ALLDAYEVENT:FALSE
SUMMARY:5th Annual Unique Boutique
DESCRIPTION:Get all of your holiday shopping finished in one day!And win valuable prizes! Visit the 5th Annual Unique Boutique onSunday\, November 16th\, 10 AM-4 PMat Beachwood High School Vendors will be selling many specialty items\, including:PursesStationeryGifts for your PetWearable ArtScarvesServing PiecesJewelryCeramicsand much more!Admission: $3.Proceeds benefit the After Prom for the Class of 2009.
X-ALT-DESC;FMTTYPE=text/html:<div align="center"><font color="#333399" size="4">Get all of your holiday shopping finished in one day!</font></div><div align="center"><font color="#333399" size="4">And win valuable prizes!</font></div><div>&nbsp\;</div><div align="center"><font color="#333399" size="3"><strong>Visit the 5th Annual Unique Boutique on</strong></font></div><div align="center"><font color="#333399" size="2">Sunday\, November 16th\, 10 AM-4 PM</font></div><div align="center"><font color="#333399" size="2">at Beachwood High School</font></div><div>&nbsp\;</div><div><font color="#333399">Vendors will be selling many specialty items\, including:</font></div><ul><li><font color="#333399">Purses</font></li><li><font color="#333399">Stationery</font></li><li><font color="#333399">Gifts for your Pet</font></li><li><font color="#333399">Wearable Art</font></li><li><font color="#333399">Scarves</font></li><li><font color="#333399">Serving Pieces</font></li><li><font color="#333399">Jewelry</font></li><li><font color="#333399">Ceramics</font></li><li><font color="#333399">and much more!</font></li></ul><div><font color="#333399">Admission: $3.</font></div><div><font color="#333399">Proceeds benefit the After Prom for the Class of 2009.</font></div>
LOCATION:Beachwood High School25100 Fairmount Blvd.
UID:e.368.122
SEQUENCE:3
DTSTAMP:20260424T005245Z
URL:https://public.beachwood.org/events/details/5th-annual-unique-boutique-11-16-2008-122
END:VEVENT

END:VCALENDAR
