BEGIN:VCALENDAR
VERSION:2.0
PRODID:-//ChamberMaster//Event Calendar 2.0//EN
METHOD:PUBLISH
X-PUBLISHED-TTL:P3D
REFRESH-INTERVAL:P3D
CALSCALE:GREGORIAN
BEGIN:VEVENT
DTSTART:20080816T170000Z
DTEND:20080816T200000Z
X-MICROSOFT-CDO-ALLDAYEVENT:FALSE
SUMMARY:30th Anniversary Celebration
DESCRIPTION:Join Beachwood Place on August 16th\, 1-4 PM\, to celebrate the mall's 30th anniversary. Come for the Live Fashion ... and stay for the give-aways\, prizes\, shopping sprees\, food & more!
X-ALT-DESC;FMTTYPE=text/html:<div><font color="#0000ff" size="3">Join <strong><em>Beachwood Place</em></strong> on August 16th\, 1-4 PM\,&nbsp\;to celebrate&nbsp\;the mall's&nbsp\;30th anniversary.</font></div><div>&nbsp\;</div><div><font color="#0000ff" size="3">Come for the Live Fashion ... and stay for the give-aways\, prizes\, shopping sprees\, food &amp\; more!</font></div>
LOCATION:Beachwood Place26300 Cedar RoadBeachwood(just west of I-271 & Cedar)
UID:e.368.72
SEQUENCE:3
DTSTAMP:20260424T043843Z
URL:https://public.beachwood.org/events/details/30th-anniversary-celebration-08-16-2008-72
END:VEVENT

END:VCALENDAR
