BEGIN:VCALENDAR
VERSION:2.0
PRODID:-//ChamberMaster//Event Calendar 2.0//EN
METHOD:PUBLISH
X-PUBLISHED-TTL:P3D
REFRESH-INTERVAL:P3D
CALSCALE:GREGORIAN
BEGIN:VEVENT
DTSTART:20211120T130000Z
DTEND:20211206T010000Z
X-MICROSOFT-CDO-ALLDAYEVENT:FALSE
SUMMARY:2nd Annual Online Holiday Auction
DESCRIPTION:We're so excited to bring back our 2nd Annual Online Holiday Auction. This year a portion of the proceeds will benefit the senior citizen residents at Menorah Park.\n\n \n\nItems will be live (open for bids) on November 20. Make sure to register so you can bid once it is open.\n\n \n\nWe have some great items ranging from hotel and restaurant gift cards to professional teeth whitening services. Don't miss out!
X-ALT-DESC;FMTTYPE=text/html:<div style="color: rgb(64\, 63\, 66)\; font-family: Arial\, Verdana\, Helvetica\, sans-serif\; font-size: 12px\;">We&#39\;re so excited to bring back our 2nd Annual Online Holiday Auction. This year a portion of the proceeds will benefit the senior citizen residents at Menorah Park.</div>\n\n<div style="color: rgb(64\, 63\, 66)\; font-family: Arial\, Verdana\, Helvetica\, sans-serif\; font-size: 12px\;">&nbsp\;</div>\n\n<div style="color: rgb(64\, 63\, 66)\; font-family: Arial\, Verdana\, Helvetica\, sans-serif\; font-size: 12px\;">Items will be live (open for bids) on November 20. Make sure to register so you can bid once it is open.</div>\n\n<div style="color: rgb(64\, 63\, 66)\; font-family: Arial\, Verdana\, Helvetica\, sans-serif\; font-size: 12px\;">&nbsp\;</div>\n\n<div style="color: rgb(64\, 63\, 66)\; font-family: Arial\, Verdana\, Helvetica\, sans-serif\; font-size: 12px\;">We have some great items ranging from hotel and restaurant gift cards to professional teeth whitening services. Don&#39\;t miss out!</div>\n
LOCATION:
UID:e.368.8445
SEQUENCE:3
DTSTAMP:20260421T142241Z
URL:https://public.beachwood.org/events/details/2nd-annual-online-holiday-auction-8445
END:VEVENT

END:VCALENDAR
