BEGIN:VCALENDAR
VERSION:2.0
PRODID:-//ChamberMaster//Event Calendar 2.0//EN
METHOD:PUBLISH
X-PUBLISHED-TTL:P3D
REFRESH-INTERVAL:P3D
CALSCALE:GREGORIAN
BEGIN:VEVENT
DTSTART:20161022T210000Z
DTEND:20161023T000000Z
X-MICROSOFT-CDO-ALLDAYEVENT:FALSE
SUMMARY:2nd Annual Alley Rally
DESCRIPTION:2nd Annual Alley Rally\n\nOctober 22\, 2016\n\n5:00-8:00 PM\n\n\n\nJoin Effective Leadership Academy for its 2nd Annual Bowling Event at the Corner Alley Uptown:  The Alley Rally!\n\n	Bowling\n	Games\n	Buffet\n	Awards\n\nIncluded in ticket cost is bowling\, shoe rental\, delicious food\, and a drink ticket.  Youth tickets are available for attendees 14 or younger and include unlimited arcade tokens rather than a drink ticket.\n\n\n\nThe event will also honor ELA's philanthropic partner of the year: Cecilia Render of Nordson Corporation Foundation!\n\nProceeds benefit the ELA Scholarship Fund providing leadership and life skills programming for students in need.\n\nClick here to register  and for more information on the event and parking options.
X-ALT-DESC;FMTTYPE=text/html:<strong>2nd Annual Alley Rally</strong><br />\n<strong>October 22\, 2016<br />\n5:00-8:00 PM</strong><br />\n<br />\nJoin Effective Leadership Academy for its 2nd Annual Bowling Event at the Corner Alley Uptown:&nbsp\; The Alley Rally!\n<ul>\n	<li>Bowling</li>\n	<li>Games</li>\n	<li>Buffet</li>\n	<li>Awards</li>\n</ul>\nIncluded in ticket cost is bowling\, shoe rental\, delicious food\, and a drink ticket.&nbsp\; Youth tickets are available for attendees 14 or younger and include unlimited arcade tokens rather than a drink ticket.<br />\n<br />\nThe event will also honor ELA&#39\;s philanthropic partner of the year: Cecilia Render of Nordson Corporation Foundation!<br />\n<em>Proceeds benefit the ELA Scholarship Fund providing leadership and life skills programming for students in need.<br />\n<a href="https://www.eventbrite.com/e/alley-rally-for-ela-tickets-25608132614"><span style="color:#B22222\;">Click here to register&nbsp\; </span></a></em>and for more information on the event and parking options.
LOCATION:The Corner Alley-Uptown University Circle 11409 Euclid Avenue (corner of Euclid Ave & Ford) Cleveland\, OH
UID:e.368.6050
SEQUENCE:3
DTSTAMP:20260420T193835Z
URL:https://public.beachwood.org/events/details/2nd-annual-alley-rally-6050
END:VEVENT

END:VCALENDAR
