BEGIN:VCALENDAR
VERSION:2.0
PRODID:-//ChamberMaster//Event Calendar 2.0//EN
METHOD:PUBLISH
X-PUBLISHED-TTL:P3D
REFRESH-INTERVAL:P3D
CALSCALE:GREGORIAN
BEGIN:VEVENT
DTSTART;VALUE=DATE:20170213
DTEND;VALUE=DATE:20170306
TRANSP:TRANSPARENT
X-MICROSOFT-CDO-ALLDAYEVENT:TRUE
SUMMARY:22nd Annual Juried Regional High School Art Show
DESCRIPTION:Beachwood Arts Council presents ...\n\n\n\nThe 22nd Annual Juried Regional High School Art Show\n\n\n\nThis special exhibit features impressive works by area high school art students in a variety of media\, including painting\, photography\, sculpture and fiber art.  This year's judges are: Grafton Nunes\, president and CEO of the Cleveland Institute of Art\; Steven Hartman\, owner and founder of Contessa Gallery\, Legacy Village\; and Sandra Noble\, adjunct instructor at Case Western Reserve University.\n\n\n\nAwards Ceremony: Sunday\, February 12th at 3:00 PM\n\n\n\nRefreshments will follow the Awards.
X-ALT-DESC;FMTTYPE=text/html:Beachwood Arts Council presents ...<br />\n<br />\nThe 22nd Annual Juried Regional High School Art Show<br />\n<br />\nThis special exhibit features impressive works by area high school art students in a variety of media\, including painting\, photography\, sculpture and fiber art.&nbsp\; This year&#39\;s judges are: Grafton Nunes\, president and CEO of the Cleveland Institute of Art\; Steven Hartman\, owner and founder of Contessa Gallery\, Legacy Village\; and Sandra Noble\, adjunct instructor at Case Western Reserve University.<br />\n<br />\nAwards Ceremony: Sunday\, February 12th at 3:00 PM<br />\n<br />\nRefreshments will follow the Awards.<br />\n&nbsp\;
LOCATION:Beachwood Community Center 25225 Fairmount Blvd.
UID:e.368.6279
SEQUENCE:3
DTSTAMP:20260421T012029Z
URL:https://public.beachwood.org/events/details/22nd-annual-juried-regional-high-school-art-show-6279
END:VEVENT

END:VCALENDAR
