BEGIN:VCALENDAR
VERSION:2.0
PRODID:-//ChamberMaster//Event Calendar 2.0//EN
METHOD:PUBLISH
X-PUBLISHED-TTL:P3D
REFRESH-INTERVAL:P3D
CALSCALE:GREGORIAN
BEGIN:VEVENT
DTSTART:20191107T220000Z
DTEND:20191108T003000Z
X-MICROSOFT-CDO-ALLDAYEVENT:FALSE
SUMMARY:2019 Taste of Beachwood
DESCRIPTION:Online registration is closed.  Tickets are available for purchase at the event.\n\nWe look forward to having you join us on Thursday!\n\n\n\nThe community may purchase tickets in advance by using the "Not A Member" registration option.\nOur very popular Taste of Beachwood is adding new restaurants daily.  Our 2019 participants who will be showcasing their signature dishes at the event are:\n\n\n	Beachwood Bistro\n	Benihana\n	Blu\, The Restaurant\n	Blue Canyon Kitchen & Tavern\n	Bravo\n	Buffalo Wild Wings\n	Cleveland Racquet Club\n	Cooper's Hawk\n	DiBella's Subs\n	Ellie-May's Gourmet Cookies\n	Hello Bistro\n	Hilton Garden Inn Cleveland East\n	Park East Grille\n	P.F. Chang's\n	Piccolo Italian Restaurant\n	Pinstripes\n	Restaurant Europa\n	Taza\n\nWe will also have a Chinese Raffle with a variety of prizes and Goodvibez will again capture the moment with a photo booth and props for the evening!
X-ALT-DESC;FMTTYPE=text/html:<h2 style="font-style:italic\;"><var><cite><em><strong><span style="font-size:14px\;">Online registration is closed.&nbsp\; Tickets are available for purchase at the event.<br />\nWe look forward to having you join us on Thursday!<br />\n<br />\nThe community may purchase tickets in advance by using the &quot\;Not A Member&quot\; registration option.</span></strong></em></cite></var></h2>\nOur very popular Taste of Beachwood is adding new restaurants daily.&nbsp\; Our 2019 participants who will be showcasing their signature dishes at the event are:\n\n<ul>\n	<li>Beachwood Bistro</li>\n	<li>Benihana</li>\n	<li>Blu\, The Restaurant</li>\n	<li>Blue Canyon Kitchen &amp\; Tavern</li>\n	<li>Bravo</li>\n	<li>Buffalo Wild Wings</li>\n	<li>Cleveland Racquet Club</li>\n	<li>Cooper&#39\;s Hawk</li>\n	<li>DiBella&#39\;s Subs</li>\n	<li>Ellie-May&#39\;s Gourmet Cookies</li>\n	<li>Hello Bistro</li>\n	<li>Hilton Garden Inn Cleveland East</li>\n	<li>Park East Grille</li>\n	<li>P.F. Chang&#39\;s</li>\n	<li>Piccolo Italian Restaurant</li>\n	<li>Pinstripes</li>\n	<li>Restaurant Europa</li>\n	<li>Taza</li>\n</ul>\nWe will also have a Chinese Raffle with a variety of prizes and Goodvibez will again capture the moment with a photo booth and props for the evening!
LOCATION:Embassy Suites 3775 Park East Drive Beachwood
UID:e.368.8107
SEQUENCE:3
DTSTAMP:20260420T162403Z
URL:https://public.beachwood.org/events/details/2019-taste-of-beachwood-8107
END:VEVENT

END:VCALENDAR
