BEGIN:VCALENDAR
VERSION:2.0
PRODID:-//ChamberMaster//Event Calendar 2.0//EN
METHOD:PUBLISH
X-PUBLISHED-TTL:P3D
REFRESH-INTERVAL:P3D
CALSCALE:GREGORIAN
BEGIN:VEVENT
DTSTART:20191213T160000Z
DTEND:20191213T190000Z
X-MICROSOFT-CDO-ALLDAYEVENT:FALSE
SUMMARY:2019 Annual Benefit Luncheon
DESCRIPTION:WIN Cleveland is celebrating 22 years of helping women network\, learn\, and thrive at our Annual Benefit Luncheon.  Our Super Bowl themed event will not only include a delicious lunch\, fun raffles\, and great silent auction items\, but some other football related activities! \n\n\n\nCome join the dynamic women of WIN as we raise funds for the WIN Cleveland Business Scholarship Fund. This annual scholarship is awarded to a female Junior or Senior year Ursuline College student pursuing a Bachelor of Arts degree in Business Management.\n\n\n\nWIN Cleveland also collects household items for Edna House for Women. Teaching their residents to abide by the 12 steps of recovery\, in addition to helping women become responsible and learning self-respect\, Edna House imparts practical life lessons and job skills that stay with them long after they leave. They provide residents a safe\, focused environment\, in which women eat\, sleep\, and breathe their own recovery. You are more than welcome to bring along any donation you would like for the women of Edna House.
X-ALT-DESC;FMTTYPE=text/html:<p><span style="font-size:16px">WIN Cleveland is celebrating 22 years of helping women network\, learn\, and thrive at our Annual Benefit Luncheon.&nbsp\; Our Super Bowl themed event will not only include a delicious lunch\, fun raffles\, and great silent auction items\, but some other football related activities!&nbsp\;<br />\n<br />\nCome join the dynamic women of WIN as we raise funds for the&nbsp\;<strong>WIN Cleveland Business Scholarship Fund</strong>.&nbsp\;This annual scholarship is awarded to a female Junior or Senior year Ursuline College student pursuing a Bachelor of Arts degree in<span style="color:rgb(0\, 0\, 0)\; font-family:comic sans ms">&nbsp\;</span>Business Management.<br />\n<br />\nWIN Cleveland also collects household items for Edna House for Women.&nbsp\;</span><span style="font-size:16px">Teaching their residents to abide by the 12 steps of recovery\, in addition to helping women become responsible and learning self-respect\, Edna House imparts practical life lessons and job skills that stay with them long after they leave. They provide residents a safe\, focused environment\, in which women eat\, sleep\, and breathe their own recovery. You are more than welcome to bring along any <a href="https://ednahouse.org/donate">donation</a> you would like for the women of Edna House.</span></p>\n\n<p>&nbsp\;</p>\n
LOCATION:Cleveland Marriott East 26300 Harvard Rd Warrensville Hts\, OH 44122
UID:e.368.8187
SEQUENCE:3
DTSTAMP:20260420T173850Z
URL:https://public.beachwood.org/events/details/2019-annual-benefit-luncheon-8187
END:VEVENT

END:VCALENDAR
