BEGIN:VCALENDAR
VERSION:2.0
PRODID:-//ChamberMaster//Event Calendar 2.0//EN
METHOD:PUBLISH
X-PUBLISHED-TTL:P3D
REFRESH-INTERVAL:P3D
CALSCALE:GREGORIAN
BEGIN:VEVENT
DTSTART:20181209T123000Z
DTEND:20181209T170000Z
X-MICROSOFT-CDO-ALLDAYEVENT:FALSE
SUMMARY:2018 Jingle Bell Run Cleveland
DESCRIPTION:The Arthritis Foundation's original Jingle Bell Run is the longest-standing festive race around\, helping champion arthritis researh and bringing people from all walks of life together to say Yes to furthering a great cause. Bring your friends\, family and co-workers to this fun-filled day of holiday cheer! The event draws more than 1\,000 participants and features a 5K Run or Walk with a 1-mile Family Fun Run option for both competitive and non-competitive runners and walkers.  This annual holiday-themed event also includes a VIP area for top fundraising particpants and teams\, a health and wellness expo\, awards\, and more! The race begins at Legacy Village and continues through the surrounding neighborhood of Lyndhurst\, Ohio.\n\n\n\nStart a team or register individually!  100% of your registration fee and fundraising efforts go directly to the Arthritis Foundation and athis great cause. Event proceeds fund critical arthritis research and resoruces benefiting the 50 million Americans\, including 300\,000 children\, with arthritis\, the nation's #1 cause of disability.
X-ALT-DESC;FMTTYPE=text/html:The Arthritis Foundation&#39\;s original Jingle Bell Run is the longest-standing festive race around\, helping champion arthritis researh and bringing people from all walks of life together to say Yes to furthering a great cause. Bring your friends\, family and co-workers to this fun-filled day of holiday cheer! The event draws more than 1\,000 participants and features a 5K Run or Walk with a 1-mile Family Fun Run option for both competitive and non-competitive runners and walkers.&nbsp\; This annual holiday-themed event also includes a VIP area for top fundraising particpants and teams\, a health and wellness expo\, awards\, and more! The race begins at Legacy Village and continues through the surrounding neighborhood of Lyndhurst\, Ohio.<br />\n<br />\nStart a team or register individually!&nbsp\; 100% of your registration fee and fundraising efforts go directly to the Arthritis Foundation and athis great cause. Event proceeds fund critical arthritis research and resoruces benefiting the 50 million Americans\, including 300\,000 children\, with arthritis\, the nation&#39\;s #1 cause of disability.
LOCATION:Legacy Village 25333 Cedar Road Lyndhurst\, OH 44124
UID:e.368.7999
SEQUENCE:3
DTSTAMP:20260420T123521Z
URL:https://public.beachwood.org/events/details/2018-jingle-bell-run-cleveland-7999
END:VEVENT

END:VCALENDAR
